BEGIN:VCALENDAR
VERSION:2.0
PRODID:-//P-klubi - ECPv6.15.20//NONSGML v1.0//EN
CALSCALE:GREGORIAN
METHOD:PUBLISH
X-WR-CALNAME:P-klubi
X-ORIGINAL-URL:https://p-klubi.fi
X-WR-CALDESC:Events for P-klubi
REFRESH-INTERVAL;VALUE=DURATION:PT1H
X-Robots-Tag:noindex
X-PUBLISHED-TTL:PT1H
BEGIN:VTIMEZONE
TZID:Europe/Helsinki
BEGIN:DAYLIGHT
TZOFFSETFROM:+0200
TZOFFSETTO:+0300
TZNAME:EEST
DTSTART:20220327T010000
END:DAYLIGHT
BEGIN:STANDARD
TZOFFSETFROM:+0300
TZOFFSETTO:+0200
TZNAME:EET
DTSTART:20221030T010000
END:STANDARD
BEGIN:DAYLIGHT
TZOFFSETFROM:+0200
TZOFFSETTO:+0300
TZNAME:EEST
DTSTART:20230326T010000
END:DAYLIGHT
BEGIN:STANDARD
TZOFFSETFROM:+0300
TZOFFSETTO:+0200
TZNAME:EET
DTSTART:20231029T010000
END:STANDARD
BEGIN:DAYLIGHT
TZOFFSETFROM:+0200
TZOFFSETTO:+0300
TZNAME:EEST
DTSTART:20240331T010000
END:DAYLIGHT
BEGIN:STANDARD
TZOFFSETFROM:+0300
TZOFFSETTO:+0200
TZNAME:EET
DTSTART:20241027T010000
END:STANDARD
END:VTIMEZONE
BEGIN:VEVENT
DTSTART;TZID=Europe/Helsinki:20230209T153000
DTEND;TZID=Europe/Helsinki:20230209T170000
DTSTAMP:20260425T140828
CREATED:20230119T125708Z
LAST-MODIFIED:20230119T125708Z
UID:13925-1675956600-1675962000@p-klubi.fi
SUMMARY:Pääaineinfo
DESCRIPTION:Mietityttääkö pääaine? Tuskailetko erikoistumislinjojen valinnan kanssa? Pohditko loikkaamista?\nTervetuloa P-klubin 9.2. fukseille järjestämään pääaineinfoon Turku-saliin. Tapahtumassa kopot ovat paikalla esittelemässä pääaineita\, ja vanhemmat opiskelijat esittelevät erikoistumislinjoja tarkemmin. Tapahtuma tarjoaa tarkempaa tietoa tutkinnon rakenteesta ja apua valintojen tekemiseen. Tapahtuma on alkoholiton.\n \nMitä: Pääaineinfo\nMissä: Turku-sali (Yo-talo A)\nMilloin: To 9.2. klo 15:30-17:00\nMiksi: Apua suuriin valintoihin! \nNäytä vähemmän
URL:https://p-klubi.fi/tapahtumakalenteri/paaaineinfo/
LOCATION:Turku-sali\, Rehtorinpellonkatu 4A\, Turku\, Finland
END:VEVENT
END:VCALENDAR