BEGIN:VCALENDAR
VERSION:2.0
PRODID:-//P-klubi - ECPv6.15.20//NONSGML v1.0//EN
CALSCALE:GREGORIAN
METHOD:PUBLISH
X-ORIGINAL-URL:https://p-klubi.fi
X-WR-CALDESC:Events for P-klubi
REFRESH-INTERVAL;VALUE=DURATION:PT1H
X-Robots-Tag:noindex
X-PUBLISHED-TTL:PT1H
BEGIN:VTIMEZONE
TZID:Europe/Helsinki
BEGIN:DAYLIGHT
TZOFFSETFROM:+0200
TZOFFSETTO:+0300
TZNAME:EEST
DTSTART:20220327T010000
END:DAYLIGHT
BEGIN:STANDARD
TZOFFSETFROM:+0300
TZOFFSETTO:+0200
TZNAME:EET
DTSTART:20221030T010000
END:STANDARD
BEGIN:DAYLIGHT
TZOFFSETFROM:+0200
TZOFFSETTO:+0300
TZNAME:EEST
DTSTART:20230326T010000
END:DAYLIGHT
BEGIN:STANDARD
TZOFFSETFROM:+0300
TZOFFSETTO:+0200
TZNAME:EET
DTSTART:20231029T010000
END:STANDARD
BEGIN:DAYLIGHT
TZOFFSETFROM:+0200
TZOFFSETTO:+0300
TZNAME:EEST
DTSTART:20240331T010000
END:DAYLIGHT
BEGIN:STANDARD
TZOFFSETFROM:+0300
TZOFFSETTO:+0200
TZNAME:EET
DTSTART:20241027T010000
END:STANDARD
END:VTIMEZONE
BEGIN:VEVENT
DTSTART;TZID=Europe/Helsinki:20230221T120000
DTEND;TZID=Europe/Helsinki:20230221T233000
DTSTAMP:20260424T161531
CREATED:20230126T163538Z
LAST-MODIFIED:20230208T125106Z
UID:13938-1676980800-1677022200@p-klubi.fi
SUMMARY:P-klubin laskiainen
DESCRIPTION:Olemme lasketelleet aikaan\, jolloin P-klubin laskiainen on jälleen ajankohtainen! Tule ja vietä laskiaistiistaita pullan\, bingon ja karaoken kera hyvää seuraa unohtamatta. Päivä alkaa pidennetyllä laskiaspäivystyksellä\, jossa voit nauttia laskiaispullatarjonnasta sekä Stroh-teen luomasta lämmöstä. Alla päivän tarkempi aikataulu:\n \nKlo 12-16 Laskiaispäivystys\n– Tarjolla kylmän talvipäivän pelastavaa Stroh-teetä sekä rakkaudella leivottuja laskiaispullia.\nKlo 16-19 Toimistolla hengailua\n– Luvassa huikea laskiaisbingo vieläkin huikeammilla palkinnoilla.\nKlo 19 –>\n– Illalla suuntaamme karaokebaari CocoLocoon nauttimaan hyvästä tunnelmasta ja kauniista karaokesta.\n \nMITÄ: Laskiaispäivystys\, laskiaisbingo ja karaoke\nMISSÄ: Toimisto ja CocoLoco\nMilloin: Tiistai 15.2. klo 12.00 –>
URL:https://p-klubi.fi/tapahtumakalenteri/p-klubin-laskiainen-3/
LOCATION:Toimisto\, Rehtorinpellonkatu 4B\, Turku\, 20500\, Finland
END:VEVENT
END:VCALENDAR