BEGIN:VCALENDAR
VERSION:2.0
PRODID:-//P-klubi - ECPv6.15.20//NONSGML v1.0//EN
CALSCALE:GREGORIAN
METHOD:PUBLISH
X-ORIGINAL-URL:https://p-klubi.fi
X-WR-CALDESC:Events for P-klubi
REFRESH-INTERVAL;VALUE=DURATION:PT1H
X-Robots-Tag:noindex
X-PUBLISHED-TTL:PT1H
BEGIN:VTIMEZONE
TZID:Europe/Helsinki
BEGIN:DAYLIGHT
TZOFFSETFROM:+0200
TZOFFSETTO:+0300
TZNAME:EEST
DTSTART:20220327T010000
END:DAYLIGHT
BEGIN:STANDARD
TZOFFSETFROM:+0300
TZOFFSETTO:+0200
TZNAME:EET
DTSTART:20221030T010000
END:STANDARD
BEGIN:DAYLIGHT
TZOFFSETFROM:+0200
TZOFFSETTO:+0300
TZNAME:EEST
DTSTART:20230326T010000
END:DAYLIGHT
BEGIN:STANDARD
TZOFFSETFROM:+0300
TZOFFSETTO:+0200
TZNAME:EET
DTSTART:20231029T010000
END:STANDARD
BEGIN:DAYLIGHT
TZOFFSETFROM:+0200
TZOFFSETTO:+0300
TZNAME:EEST
DTSTART:20240331T010000
END:DAYLIGHT
BEGIN:STANDARD
TZOFFSETFROM:+0300
TZOFFSETTO:+0200
TZNAME:EET
DTSTART:20241027T010000
END:STANDARD
END:VTIMEZONE
BEGIN:VEVENT
DTSTART;TZID=Europe/Helsinki:20230222T170000
DTEND;TZID=Europe/Helsinki:20230222T190000
DTSTAMP:20260424T144631
CREATED:20230205T154653Z
LAST-MODIFIED:20230208T125210Z
UID:13954-1677085200-1677092400@p-klubi.fi
SUMMARY:Varainhankintatoimikunta
DESCRIPTION:Tervetuloa varainhankintatoimikuntaan P-klubin toimistolle 22.2.2023 klo 17 eteenpäin!\n \nIllan tavoitteena on löytää uusia ratkaisuja ja ideoita P-klubin varainhankintaan\, ja sitä kautta kehittää varainhankintaa vielä entistäkin paremmalle ja vakaammalle tasolle. Olet tervetullut matalalla kynnyksellä keskusteleman ja ideoimaan kanssamme. Suuntaa siis kohti toimistoa tuona kauniina helmikuisena iltana! Mukana pohtimassa on tietenkin myös muu hallitus. Tarjolla kahvia\, keksejä ja varakkaita ideoita.\n \nTervetuloa!\n \nMISSÄ? P-klubin toimistolla\nMITÄ? Money making!\nMILLOIN? 22.2. klo 17 eteenpäin\nMIKSI? Koska klubille rahaa
URL:https://p-klubi.fi/tapahtumakalenteri/varainhankintatoimikunta/
LOCATION:Toimisto\, Rehtorinpellonkatu 4B\, Turku\, 20500\, Finland
END:VEVENT
END:VCALENDAR