BEGIN:VCALENDAR
VERSION:2.0
PRODID:-//P-klubi - ECPv6.15.20//NONSGML v1.0//EN
CALSCALE:GREGORIAN
METHOD:PUBLISH
X-WR-CALNAME:P-klubi
X-ORIGINAL-URL:https://p-klubi.fi
X-WR-CALDESC:Events for P-klubi
REFRESH-INTERVAL;VALUE=DURATION:PT1H
X-Robots-Tag:noindex
X-PUBLISHED-TTL:PT1H
BEGIN:VTIMEZONE
TZID:Europe/Helsinki
BEGIN:DAYLIGHT
TZOFFSETFROM:+0200
TZOFFSETTO:+0300
TZNAME:EEST
DTSTART:20220327T010000
END:DAYLIGHT
BEGIN:STANDARD
TZOFFSETFROM:+0300
TZOFFSETTO:+0200
TZNAME:EET
DTSTART:20221030T010000
END:STANDARD
BEGIN:DAYLIGHT
TZOFFSETFROM:+0200
TZOFFSETTO:+0300
TZNAME:EEST
DTSTART:20230326T010000
END:DAYLIGHT
BEGIN:STANDARD
TZOFFSETFROM:+0300
TZOFFSETTO:+0200
TZNAME:EET
DTSTART:20231029T010000
END:STANDARD
BEGIN:DAYLIGHT
TZOFFSETFROM:+0200
TZOFFSETTO:+0300
TZNAME:EEST
DTSTART:20240331T010000
END:DAYLIGHT
BEGIN:STANDARD
TZOFFSETFROM:+0300
TZOFFSETTO:+0200
TZNAME:EET
DTSTART:20241027T010000
END:STANDARD
END:VTIMEZONE
BEGIN:VEVENT
DTSTART;TZID=Europe/Helsinki:20230228T180000
DTEND;TZID=Europe/Helsinki:20230228T200000
DTSTAMP:20260424T051110
CREATED:20230205T145941Z
LAST-MODIFIED:20230205T145941Z
UID:13947-1677607200-1677614400@p-klubi.fi
SUMMARY:Laulunjohtajakoulutus
DESCRIPTION:Oletko aina halunnut oppia laulunjohtamisen salat ja päästä lumoamaan sitsikansan?\n \nOsallistumalla laulunjohtajakoulutukseen pääset toteuttamaan haaveesi ja oppimaan sitsikulttuurin perinteet sekä laulunjohtajan taidot. Koulutukseen osallistuminen ei vaadi sinulta syvällistä tietoa sitsaamisesta eikä erityistä laulutaitoa\, vaan tärkeintä on aito kiinnostus sitsaamista kohtaan! Koulutukseen osallistuminen ei myöskään velvoita toimimaan laulunjohtajana.\n\nLaulunjohtajakoulutus järjestetään P-klubin toimistolla keskiviikkona 28.2. klo 18:00 alkaen Mikko Kohon johdolla. Koulutuksen aikaan tarjolla on myös pientä purtavaa.\n \nNappaa laulukirja mukaasi ja suuntaa toimistolle oppimaan laulunjohtamisen salat!
URL:https://p-klubi.fi/tapahtumakalenteri/laulunjohtajakoulutus/
LOCATION:Toimisto\, Rehtorinpellonkatu 4B\, Turku\, 20500\, Finland
END:VEVENT
END:VCALENDAR