BEGIN:VCALENDAR
VERSION:2.0
PRODID:-//P-klubi - ECPv6.15.20//NONSGML v1.0//EN
CALSCALE:GREGORIAN
METHOD:PUBLISH
X-WR-CALNAME:P-klubi
X-ORIGINAL-URL:https://p-klubi.fi
X-WR-CALDESC:Events for P-klubi
REFRESH-INTERVAL;VALUE=DURATION:PT1H
X-Robots-Tag:noindex
X-PUBLISHED-TTL:PT1H
BEGIN:VTIMEZONE
TZID:Europe/Helsinki
BEGIN:DAYLIGHT
TZOFFSETFROM:+0200
TZOFFSETTO:+0300
TZNAME:EEST
DTSTART:20220327T010000
END:DAYLIGHT
BEGIN:STANDARD
TZOFFSETFROM:+0300
TZOFFSETTO:+0200
TZNAME:EET
DTSTART:20221030T010000
END:STANDARD
BEGIN:DAYLIGHT
TZOFFSETFROM:+0200
TZOFFSETTO:+0300
TZNAME:EEST
DTSTART:20230326T010000
END:DAYLIGHT
BEGIN:STANDARD
TZOFFSETFROM:+0300
TZOFFSETTO:+0200
TZNAME:EET
DTSTART:20231029T010000
END:STANDARD
BEGIN:DAYLIGHT
TZOFFSETFROM:+0200
TZOFFSETTO:+0300
TZNAME:EEST
DTSTART:20240331T010000
END:DAYLIGHT
BEGIN:STANDARD
TZOFFSETFROM:+0300
TZOFFSETTO:+0200
TZNAME:EET
DTSTART:20241027T010000
END:STANDARD
END:VTIMEZONE
BEGIN:VEVENT
DTSTART;TZID=Europe/Helsinki:20230417T170000
DTEND;TZID=Europe/Helsinki:20230417T190000
DTSTAMP:20260423T024712
CREATED:20230329T080442Z
LAST-MODIFIED:20230329T080442Z
UID:14150-1681750800-1681758000@p-klubi.fi
SUMMARY:POP-toimikunta vol. 2
DESCRIPTION:Tervetuloa mukaan järjestämään vuoden 2023 POP-päiviä!\nTänä vuonna Politiikan opiskelijoiden päivät palaavat Turkuun\, ja toinen POP-toimikunnan tapaaminen järjestetään maanantaina 17.4. klo 17.00 Toimistolla. Toimikunnassa on tarkoitus jatkaa tapahtuman suunnittelua muun muassa ohjelman\, kuten sitsien ja silliksen\, puhujien\, logistiikan ja varainhankinnan muodossa.\nTapahtuma on tarkoitettu kaikille klubilaisille\, joita kiinnostaa näyttää kaikille kollegoille\, kuinka POP-päivät tulee järjestää. Tarjolla on myös kahvia keksien kera.
URL:https://p-klubi.fi/tapahtumakalenteri/pop-toimikunta-vol-2/
LOCATION:Toimisto\, Rehtorinpellonkatu 4B\, Turku\, 20500\, Finland
END:VEVENT
END:VCALENDAR