BEGIN:VCALENDAR
VERSION:2.0
PRODID:-//P-klubi - ECPv6.15.20//NONSGML v1.0//EN
CALSCALE:GREGORIAN
METHOD:PUBLISH
X-ORIGINAL-URL:https://p-klubi.fi
X-WR-CALDESC:Events for P-klubi
REFRESH-INTERVAL;VALUE=DURATION:PT1H
X-Robots-Tag:noindex
X-PUBLISHED-TTL:PT1H
BEGIN:VTIMEZONE
TZID:Europe/Helsinki
BEGIN:DAYLIGHT
TZOFFSETFROM:+0200
TZOFFSETTO:+0300
TZNAME:EEST
DTSTART:20220327T010000
END:DAYLIGHT
BEGIN:STANDARD
TZOFFSETFROM:+0300
TZOFFSETTO:+0200
TZNAME:EET
DTSTART:20221030T010000
END:STANDARD
BEGIN:DAYLIGHT
TZOFFSETFROM:+0200
TZOFFSETTO:+0300
TZNAME:EEST
DTSTART:20230326T010000
END:DAYLIGHT
BEGIN:STANDARD
TZOFFSETFROM:+0300
TZOFFSETTO:+0200
TZNAME:EET
DTSTART:20231029T010000
END:STANDARD
BEGIN:DAYLIGHT
TZOFFSETFROM:+0200
TZOFFSETTO:+0300
TZNAME:EEST
DTSTART:20240331T010000
END:DAYLIGHT
BEGIN:STANDARD
TZOFFSETFROM:+0300
TZOFFSETTO:+0200
TZNAME:EET
DTSTART:20241027T010000
END:STANDARD
END:VTIMEZONE
BEGIN:VEVENT
DTSTART;VALUE=DATE:20230821
DTEND;VALUE=DATE:20230914
DTSTAMP:20260423T104112
CREATED:20230828T113602Z
LAST-MODIFIED:20230828T113602Z
UID:14425-1692576000-1694649599@p-klubi.fi
SUMMARY:P-klubin fuksiviikot 2023
DESCRIPTION:MA 21.8. \nFuksiviikot alkavat! \n9–12 Tiedekunnan ohjelmaa fukseille \n12.00 Jakautuminen tuutoriryhmiin Publicumin pihalla ja valokuvaus \n14.00/15.00 Haalarien sovittaminen Turku-salissa \n17.00 Fuksien ja tuutoreiden ruokailu Piccu Macciassa \n18.30 Fuksien ja hallituksen tapaaminen Puutorin vessassa \nTI 22.8. \n9–12 Tiedekunnan ohjelmaa fukseille \n12.00-14.00 Indexin sivuainemessut \n14.00/15.00 Hassu Hattu Arcanurmella (säävarauksella Turku-salissa) \n19.00 Fuksien ja jäsenistön tapaaminen Löydössä \nKE 23.8. \n9-12 Tiedekunnan ohjelmaa fukseille \n12.00 Yhteinen lounas Assarin ullakolla \n14.00 Fuksien workshopit Publicumilla \n17.00 Indexin aarteenmetsästys \nTO 24.8. \n9-12 Tiedekunnan ohjelmaa fukseille \n15.00 Kastajaiset Laitospuistosta \nPE 25.8.  \n9–12 Tiedekunnan ohjelmaa fukseille \nKirjastokierrokset \nTYY-kierrokset \nLA 26.8. \nP-klubi goes Pride \nIndex goes Pride \nSU 27.8. \n12.00 Indexin fuksipiknik \nMA 28.8.  \n13.00/14.00 IT-info \n18.00 Toimiston avajaiset Arcanurmelta \nTI 29.8. \n13-15 Valtio-opin henkilökunnan tapaaminen  \n19.00 Viinijooga Sos-klubin kanssa Vartiovuorenmäellä \nKE 30.8. \n10.00-16.00 Study in Turku -messut \n17.00 Indexin kastajaiset \nTO 31.8. \n14-16 Poliittisen historian henkilökunnan tapaaminen \n17.00 Turku tutuksi I -kierros Turun linnassa \nPE 1.9. \n12.00 Henkilökunnan opintoinfo \nMA 4.9. \n12-14 Sivuaineinfo Elovena-sali (kauppakorkea) \nTI 5.9. \n12–14 TYYn avajaiskarnevaalit Vanhalla Suurtorilla \n18.00 P-klubin fuksisitsit Osakuntasalissa \n22.00 Indexin synttäribileet Q-talolla \nKE 6.9. \n16.00 Turku tutuksi II -kierros Aboa Vetus \nTO 7.9. \n18.00 Indexin fuksisitsit  \nTI 12.9. \n16.00 Turku tutuksi III -kierros Luostarinmäki \nKe 13.9.  \n16.00 Kostajaisinfo Kampuskappelissa
URL:https://p-klubi.fi/tapahtumakalenteri/p-klubin-fuksiviikot-2023/
LOCATION:Turku\, Finland
END:VEVENT
END:VCALENDAR