BEGIN:VCALENDAR
VERSION:2.0
PRODID:-//P-klubi - ECPv6.15.20//NONSGML v1.0//EN
CALSCALE:GREGORIAN
METHOD:PUBLISH
X-WR-CALNAME:P-klubi
X-ORIGINAL-URL:https://p-klubi.fi
X-WR-CALDESC:Events for P-klubi
REFRESH-INTERVAL;VALUE=DURATION:PT1H
X-Robots-Tag:noindex
X-PUBLISHED-TTL:PT1H
BEGIN:VTIMEZONE
TZID:Europe/Helsinki
BEGIN:DAYLIGHT
TZOFFSETFROM:+0200
TZOFFSETTO:+0300
TZNAME:EEST
DTSTART:20230326T010000
END:DAYLIGHT
BEGIN:STANDARD
TZOFFSETFROM:+0300
TZOFFSETTO:+0200
TZNAME:EET
DTSTART:20231029T010000
END:STANDARD
BEGIN:DAYLIGHT
TZOFFSETFROM:+0200
TZOFFSETTO:+0300
TZNAME:EEST
DTSTART:20240331T010000
END:DAYLIGHT
BEGIN:STANDARD
TZOFFSETFROM:+0300
TZOFFSETTO:+0200
TZNAME:EET
DTSTART:20241027T010000
END:STANDARD
BEGIN:DAYLIGHT
TZOFFSETFROM:+0200
TZOFFSETTO:+0300
TZNAME:EEST
DTSTART:20250330T010000
END:DAYLIGHT
BEGIN:STANDARD
TZOFFSETFROM:+0300
TZOFFSETTO:+0200
TZNAME:EET
DTSTART:20251026T010000
END:STANDARD
END:VTIMEZONE
BEGIN:VEVENT
DTSTART;TZID=Europe/Helsinki:20240129T160000
DTEND;TZID=Europe/Helsinki:20240129T170000
DTSTAMP:20260423T151622
CREATED:20240306T130250Z
LAST-MODIFIED:20240306T130250Z
UID:14957-1706544000-1706547600@p-klubi.fi
SUMMARY:Ekskursiotoimikunta
DESCRIPTION:Tule mukaan suunnittelemaan vuoden 2024 ulkomaan ekskursiota\, maanantaina 29.1. klo 16 eteenpäin toimistolle. P-klubi on kutsuttu tutustumaan Euroopan parlamentin toimintaan\, joten suuntaamme tänä vuonna kohti Euroopan sydäntä\, Brysseliä! Luvassa on ainutlaatuinen mahdollisuus tutustua Brysselin työelämäkohteisiin ja samalla nauttia Brysselin monipuolisesta kulttuurista.\n \nEkskursiotoimikunnan kokouksessa ekskursiovastaavat Meri-Tuulia ja Vanessa esittelevät maaliskuulle ajoittuvan ulkomaan eksursiokohteemme Brysselin. Lisäksi toimikunnassa suunnitellaan ja ideoidaan muuta ohjelmaa tulevalle ekskursiolle.\nMikäli Brysseliin lähteminen kiinnostaa ja visioita matkaan liittyen löytyy\, ekskursiotoimikunnasta löytyy paikka juuri sinulle.\nKokoukseen osallistuminen ei sido vielä mihinkään\, joten paikalle voi saapua hyvin matalalla kynnyksellä fiilistelemään tulevaa reissua. Tapahtumassa on kahvi- ja keksitarjoilu.\nNähdään toimistolla – varmista\, että äänesi kuuluu matkasuunnitelmissa!\n \nTerveisin\,\nEkskursiovastaavat\nMeri-Tuulia ja Vanessa\nmtkorh@utu.fi\nvcluov@utu.f
URL:https://p-klubi.fi/tapahtumakalenteri/ekskursiotoimikunta/
LOCATION:Toimisto\, Rehtorinpellonkatu 4B\, Turku\, 20500\, Finland
END:VEVENT
END:VCALENDAR