BEGIN:VCALENDAR
VERSION:2.0
PRODID:-//P-klubi - ECPv6.15.20//NONSGML v1.0//EN
CALSCALE:GREGORIAN
METHOD:PUBLISH
X-WR-CALNAME:P-klubi
X-ORIGINAL-URL:https://p-klubi.fi
X-WR-CALDESC:Events for P-klubi
REFRESH-INTERVAL;VALUE=DURATION:PT1H
X-Robots-Tag:noindex
X-PUBLISHED-TTL:PT1H
BEGIN:VTIMEZONE
TZID:Europe/Helsinki
BEGIN:DAYLIGHT
TZOFFSETFROM:+0200
TZOFFSETTO:+0300
TZNAME:EEST
DTSTART:20230326T010000
END:DAYLIGHT
BEGIN:STANDARD
TZOFFSETFROM:+0300
TZOFFSETTO:+0200
TZNAME:EET
DTSTART:20231029T010000
END:STANDARD
BEGIN:DAYLIGHT
TZOFFSETFROM:+0200
TZOFFSETTO:+0300
TZNAME:EEST
DTSTART:20240331T010000
END:DAYLIGHT
BEGIN:STANDARD
TZOFFSETFROM:+0300
TZOFFSETTO:+0200
TZNAME:EET
DTSTART:20241027T010000
END:STANDARD
BEGIN:DAYLIGHT
TZOFFSETFROM:+0200
TZOFFSETTO:+0300
TZNAME:EEST
DTSTART:20250330T010000
END:DAYLIGHT
BEGIN:STANDARD
TZOFFSETFROM:+0300
TZOFFSETTO:+0200
TZNAME:EET
DTSTART:20251026T010000
END:STANDARD
END:VTIMEZONE
BEGIN:VEVENT
DTSTART;TZID=Europe/Helsinki:20240130T180000
DTEND;TZID=Europe/Helsinki:20240130T210000
DTSTAMP:20260423T151621
CREATED:20240306T130002Z
LAST-MODIFIED:20240306T130002Z
UID:14955-1706637600-1706648400@p-klubi.fi
SUMMARY:Kevään jäsenistösitsit
DESCRIPTION:Kevät on jälleen koittanut\, ja sehän tarkoittaa vain yhtä asiaa: haalarit päälle ja sitsaamaan!\nKevään jäsenistösitsit järjestetään tiistaina 30.1.2024 Q-talolla klo 18:00 alkaen. Ilmoittautuminen aukeaa keskiviikkona 17.1.\nklo 12:00 ja päättyy sunnuntaina 21.1. klo 23:59.\n \nLinkki ilmoittautumiseen:\nhttps://forms.gle/U93pUYFUuUCSBQZn6\nMuista olla nopea sillä paikkoja on rajoitetusti ja ennen klo 12:00 tulleet ilmoittautumiset hylätään. Peruuttaminen on mahdollista ilmoittautumisajan päättymiseen saakka.\nSitsit maksavat 13€/15€ riippuen juomavalinnasta. Maksuohjeet lähetetään sitseille mahtuneille ilmoittautumisajan päätyttyä.\nTapahtuma on OPM.\n \nSitsien päätyttyä iltaa jatketaan Night Club Marilynissa\, jonne koko jäsenistö on tervetullut.\n \nP-klubin alkoholillisissa tapahtumissa on käytössä turvahenkilöt\, jotka toimivat avun ensiasteena tarvittaessa. Tunnistat heidät “Turvahenkilö”-pinssistä. Kevään jäsenistösitsien turvahenkilöinä toimivat:\nPihla Posti 0453573522\nAino Särkelä 0452694591\nVoit olla heihin yhteydessä matalalla kynnyksellä ongelmatilanteissa.\nLisätietoja turvahenkilökäytännöstä saat yhdenvertaisuusvastaavilta Kaisla Kontkanen (kaaiko@utu.fi) ja Richard Engström (rrengs@utu.fi).\n \nMikäli sitseistä herää kysymyksiä\, olethan yhteydessä festiksiin\, festikset@gmail.com\nSitsiterveisin uudet festiksenne\,\nPihla ja Aino 
URL:https://p-klubi.fi/tapahtumakalenteri/kevaan-jasenistositsit-3/
LOCATION:Q-talo\, Nummenpuistokatu 2\, Turku\, Varsinais-Suomi\, 20540\, Finland
END:VEVENT
END:VCALENDAR