BEGIN:VCALENDAR
VERSION:2.0
PRODID:-//P-klubi - ECPv6.15.20//NONSGML v1.0//EN
CALSCALE:GREGORIAN
METHOD:PUBLISH
X-ORIGINAL-URL:https://p-klubi.fi
X-WR-CALDESC:Events for P-klubi
REFRESH-INTERVAL;VALUE=DURATION:PT1H
X-Robots-Tag:noindex
X-PUBLISHED-TTL:PT1H
BEGIN:VTIMEZONE
TZID:Europe/Helsinki
BEGIN:DAYLIGHT
TZOFFSETFROM:+0200
TZOFFSETTO:+0300
TZNAME:EEST
DTSTART:20230326T010000
END:DAYLIGHT
BEGIN:STANDARD
TZOFFSETFROM:+0300
TZOFFSETTO:+0200
TZNAME:EET
DTSTART:20231029T010000
END:STANDARD
BEGIN:DAYLIGHT
TZOFFSETFROM:+0200
TZOFFSETTO:+0300
TZNAME:EEST
DTSTART:20240331T010000
END:DAYLIGHT
BEGIN:STANDARD
TZOFFSETFROM:+0300
TZOFFSETTO:+0200
TZNAME:EET
DTSTART:20241027T010000
END:STANDARD
BEGIN:DAYLIGHT
TZOFFSETFROM:+0200
TZOFFSETTO:+0300
TZNAME:EEST
DTSTART:20250330T010000
END:DAYLIGHT
BEGIN:STANDARD
TZOFFSETFROM:+0300
TZOFFSETTO:+0200
TZNAME:EET
DTSTART:20251026T010000
END:STANDARD
END:VTIMEZONE
BEGIN:VEVENT
DTSTART;TZID=Europe/Helsinki:20240211T190000
DTEND;TZID=Europe/Helsinki:20240211T220000
DTSTAMP:20260423T165952
CREATED:20240306T125716Z
LAST-MODIFIED:20240306T125716Z
UID:14953-1707678000-1707688800@p-klubi.fi
SUMMARY:P-klubin presidentinvaalivalvojaiset kierros II
DESCRIPTION:Kuka ottaa roolin uutena koko kansakunnan isänä? Kenen vastuulla on säädellä Suomen ulko- ja turvallisuuspolitiikkaa ainakin seuraavat kuusi vuotta? Ketkä ovat linnanjuhlien seuraavat päätähdet? Jos haluat vastauksia näihin kysymyksiin laadukkaassa seurassa\, saavuthan P-klubin presidentinvaalivalvojaisiin sunnuntaina 11.2. klo 19 alkaen Toimistolle. Seuraamme jännittävääkin jännittävämpää iltaa YLE:n vaalilähetyksen kautta\, joka alkaa klo 19.30.\nVaalivalvojaisia seuraamme uudehkosta ja hienosta televisiostamme pienen tarjoilun kera. Toimistolle olet tervetullut seitsemästä eteenpäin\, ja tapahtuma kestää aina tuloksen selviämiseen saakka (tai kunnes kello lyö yksitoista).\nTapahtuma on OPM.\n \nMITÄ? Presidentinvaalivalvojaiset\nMISSÄ? Toimistolla\nMILLOIN? Sunnuntaina 11.2. klo 19 ->\nMIKSI? Suomeen valitaan uusi presidentti vaan kerran kuudessa vuodessa!\n \nP-klubin alkoholillisissa tapahtumissa on käytössä turvahenkilöt\, jotka toimivat avun ensiasteena tarvittaessa. Tunnistat heidät “Turvahenkilö”-pinssistä. Tapahtuman turvahenkilöinä toimivat:\nVanessa Luovikari\n+358 40 3259 475\nAnttoni Niemi\n+358 44 2364 841\nVoit olla heihin yhteydessä matalalla kynnyksellä ongelmatilanteissa. Lisätietoja turvahenkilökäytännöstä saat yhdenvertaisuusvastaavilta Kaisla Kontkaselta (kaaiko@utu.fi) ja Richard Engströmiltä (rrengs@utu.fi).
URL:https://p-klubi.fi/tapahtumakalenteri/p-klubin-presidentinvaalivalvojaiset-kierros-ii/
LOCATION:Toimisto\, Rehtorinpellonkatu 4B\, Turku\, 20500\, Finland
END:VEVENT
END:VCALENDAR