BEGIN:VCALENDAR
VERSION:2.0
PRODID:-//P-klubi - ECPv6.15.20//NONSGML v1.0//EN
CALSCALE:GREGORIAN
METHOD:PUBLISH
X-WR-CALNAME:P-klubi
X-ORIGINAL-URL:https://p-klubi.fi
X-WR-CALDESC:Events for P-klubi
REFRESH-INTERVAL;VALUE=DURATION:PT1H
X-Robots-Tag:noindex
X-PUBLISHED-TTL:PT1H
BEGIN:VTIMEZONE
TZID:Europe/Helsinki
BEGIN:DAYLIGHT
TZOFFSETFROM:+0200
TZOFFSETTO:+0300
TZNAME:EEST
DTSTART:20230326T010000
END:DAYLIGHT
BEGIN:STANDARD
TZOFFSETFROM:+0300
TZOFFSETTO:+0200
TZNAME:EET
DTSTART:20231029T010000
END:STANDARD
BEGIN:DAYLIGHT
TZOFFSETFROM:+0200
TZOFFSETTO:+0300
TZNAME:EEST
DTSTART:20240331T010000
END:DAYLIGHT
BEGIN:STANDARD
TZOFFSETFROM:+0300
TZOFFSETTO:+0200
TZNAME:EET
DTSTART:20241027T010000
END:STANDARD
BEGIN:DAYLIGHT
TZOFFSETFROM:+0200
TZOFFSETTO:+0300
TZNAME:EEST
DTSTART:20250330T010000
END:DAYLIGHT
BEGIN:STANDARD
TZOFFSETFROM:+0300
TZOFFSETTO:+0200
TZNAME:EET
DTSTART:20251026T010000
END:STANDARD
END:VTIMEZONE
BEGIN:VEVENT
DTSTART;TZID=Europe/Helsinki:20240212T160000
DTEND;TZID=Europe/Helsinki:20240212T180000
DTSTAMP:20260423T165412
CREATED:20240306T125427Z
LAST-MODIFIED:20240306T125427Z
UID:14951-1707753600-1707760800@p-klubi.fi
SUMMARY:Pääaineinfo
DESCRIPTION:Hei ensimmäisen vuoden opiskelija!\nTule pääaineinfoon 12.2 klo 16 Turku-salissa ottamaan selvää\, mitä tulevat opintosi sisältävät ja mihin linjoille voit erikoistua. Jos oma valintasi pääaineen suhteen vielä mietityttää ja haluat kenties vaihtaa\, on hyvä tulla kuuntelemaan lisää! Vaikka olisit varma valinnastasi\, saat infosta käytännöntietoa opintojen tueksi\, josta varmasti hyödyt.\nInfossa käydään läpi sekä valtio-oppi\, että poliittinen historia ja voit kuulla vanhempien opiskelijoiden kokemuksia eri erikoistumislinjoista. Tule ottamaan selvää opinnoistasi ja kysymään kysymyksiä!\n \nMitä: Pääaineinfo\nMissä: Turku-sali\, Yo-talo A\nMilloin: 12.2 klo 16\nMiksi: Selventämään valintoja!\n \nTapahtuma on alkoholiton.
URL:https://p-klubi.fi/tapahtumakalenteri/paaaineinfo-2/
LOCATION:Turku-sali\, Rehtorinpellonkatu 4A\, Turku\, Finland
END:VEVENT
END:VCALENDAR