BEGIN:VCALENDAR
VERSION:2.0
PRODID:-//P-klubi - ECPv6.15.20//NONSGML v1.0//EN
CALSCALE:GREGORIAN
METHOD:PUBLISH
X-WR-CALNAME:P-klubi
X-ORIGINAL-URL:https://p-klubi.fi
X-WR-CALDESC:Events for P-klubi
REFRESH-INTERVAL;VALUE=DURATION:PT1H
X-Robots-Tag:noindex
X-PUBLISHED-TTL:PT1H
BEGIN:VTIMEZONE
TZID:Europe/Helsinki
BEGIN:DAYLIGHT
TZOFFSETFROM:+0200
TZOFFSETTO:+0300
TZNAME:EEST
DTSTART:20230326T010000
END:DAYLIGHT
BEGIN:STANDARD
TZOFFSETFROM:+0300
TZOFFSETTO:+0200
TZNAME:EET
DTSTART:20231029T010000
END:STANDARD
BEGIN:DAYLIGHT
TZOFFSETFROM:+0200
TZOFFSETTO:+0300
TZNAME:EEST
DTSTART:20240331T010000
END:DAYLIGHT
BEGIN:STANDARD
TZOFFSETFROM:+0300
TZOFFSETTO:+0200
TZNAME:EET
DTSTART:20241027T010000
END:STANDARD
BEGIN:DAYLIGHT
TZOFFSETFROM:+0200
TZOFFSETTO:+0300
TZNAME:EEST
DTSTART:20250330T010000
END:DAYLIGHT
BEGIN:STANDARD
TZOFFSETFROM:+0300
TZOFFSETTO:+0200
TZNAME:EET
DTSTART:20251026T010000
END:STANDARD
END:VTIMEZONE
BEGIN:VEVENT
DTSTART;TZID=Europe/Helsinki:20240215T170000
DTEND;TZID=Europe/Helsinki:20240215T180000
DTSTAMP:20260423T165956
CREATED:20240306T124057Z
LAST-MODIFIED:20240306T124057Z
UID:14947-1708016400-1708020000@p-klubi.fi
SUMMARY:Varainhankintatoimikunta
DESCRIPTION:Aika lihottaa klubin rahapussia!\n \nVarainhankintatoimikunta kokoontuu torstaina 15.2. P-klubin toimistolla klo 17 alkaen.\nTule mukaan visioimaan alkaneen vuoden varainhankintaa\, tuoden mukanasi kullanarvoisia ideoita kuultavaksi. Toimikuntaan osallistuminen on myös oiva tapa vaikuttaa vuoden kohokohtaan\, kevään klubituotteeseen!!\nSuut eivät jää kuiviksi\, eikä maha murise\, sillä tarjolla on kahvia ja herkkuja.\nRahan tuoksuisin terveisin\,\nsokeritiimi: Vanessa\, Sinikka ja Anttoni \n \nMITÄ? Varainhankinnan ja klubituotteen kehittelyä\nMISSÄ? P-klubin toimisto\, Leijonanluola\, SharkTank\nMILLOIN? 15.2. klo 17—>\nMIKSI? Raha ratkaisee
URL:https://p-klubi.fi/tapahtumakalenteri/varainhankintatoimikunta-2/
LOCATION:Toimisto\, Rehtorinpellonkatu 4B\, Turku\, 20500\, Finland
END:VEVENT
END:VCALENDAR