BEGIN:VCALENDAR
VERSION:2.0
PRODID:-//P-klubi - ECPv6.15.20//NONSGML v1.0//EN
CALSCALE:GREGORIAN
METHOD:PUBLISH
X-WR-CALNAME:P-klubi
X-ORIGINAL-URL:https://p-klubi.fi
X-WR-CALDESC:Events for P-klubi
REFRESH-INTERVAL;VALUE=DURATION:PT1H
X-Robots-Tag:noindex
X-PUBLISHED-TTL:PT1H
BEGIN:VTIMEZONE
TZID:Europe/Helsinki
BEGIN:DAYLIGHT
TZOFFSETFROM:+0200
TZOFFSETTO:+0300
TZNAME:EEST
DTSTART:20230326T010000
END:DAYLIGHT
BEGIN:STANDARD
TZOFFSETFROM:+0300
TZOFFSETTO:+0200
TZNAME:EET
DTSTART:20231029T010000
END:STANDARD
BEGIN:DAYLIGHT
TZOFFSETFROM:+0200
TZOFFSETTO:+0300
TZNAME:EEST
DTSTART:20240331T010000
END:DAYLIGHT
BEGIN:STANDARD
TZOFFSETFROM:+0300
TZOFFSETTO:+0200
TZNAME:EET
DTSTART:20241027T010000
END:STANDARD
BEGIN:DAYLIGHT
TZOFFSETFROM:+0200
TZOFFSETTO:+0300
TZNAME:EEST
DTSTART:20250330T010000
END:DAYLIGHT
BEGIN:STANDARD
TZOFFSETFROM:+0300
TZOFFSETTO:+0200
TZNAME:EET
DTSTART:20251026T010000
END:STANDARD
END:VTIMEZONE
BEGIN:VEVENT
DTSTART;TZID=Europe/Helsinki:20240226T170000
DTEND;TZID=Europe/Helsinki:20240226T190000
DTSTAMP:20260423T165411
CREATED:20240306T124005Z
LAST-MODIFIED:20240306T124005Z
UID:14945-1708966800-1708974000@p-klubi.fi
SUMMARY:P-klubi–Kritiikki seurapeli-ilta
DESCRIPTION:Saavu pilke silmäkulmassa pelaamaan ja leikkimään Kritiikki-ystäviemme kanssa! Luvassa on monille lapsuudestakin tuttuja seurapelejä\, kuten Ihmissusi ja Mafioso. Politiikan ja historian havinaa iltaan tuo kiehtovat teemat\, joilla tuttuja pelejä on höystetty. Seuraleikeistä tarpeeksi saatua iltaa voi jatkaa perinteisten lautapelien parissa.\nTarjolla myös virvokkeita ja herkkuja!\nTervetuloa \n \nMITÄ? Seurapeli-ilta\nMISSÄ? Turku-sali\nMILLOIN? 26.2. klo 17\nMIX? Lapsi on terve\, kun se leikkii ;D
URL:https://p-klubi.fi/tapahtumakalenteri/p-klubi-kritiikki-seurapeli-ilta/
LOCATION:Turku-sali\, Rehtorinpellonkatu 4A\, Turku\, Finland
END:VEVENT
END:VCALENDAR