BEGIN:VCALENDAR
VERSION:2.0
PRODID:-//P-klubi - ECPv6.15.20//NONSGML v1.0//EN
CALSCALE:GREGORIAN
METHOD:PUBLISH
X-ORIGINAL-URL:https://p-klubi.fi
X-WR-CALDESC:Events for P-klubi
REFRESH-INTERVAL;VALUE=DURATION:PT1H
X-Robots-Tag:noindex
X-PUBLISHED-TTL:PT1H
BEGIN:VTIMEZONE
TZID:Europe/Helsinki
BEGIN:DAYLIGHT
TZOFFSETFROM:+0200
TZOFFSETTO:+0300
TZNAME:EEST
DTSTART:20230326T010000
END:DAYLIGHT
BEGIN:STANDARD
TZOFFSETFROM:+0300
TZOFFSETTO:+0200
TZNAME:EET
DTSTART:20231029T010000
END:STANDARD
BEGIN:DAYLIGHT
TZOFFSETFROM:+0200
TZOFFSETTO:+0300
TZNAME:EEST
DTSTART:20240331T010000
END:DAYLIGHT
BEGIN:STANDARD
TZOFFSETFROM:+0300
TZOFFSETTO:+0200
TZNAME:EET
DTSTART:20241027T010000
END:STANDARD
BEGIN:DAYLIGHT
TZOFFSETFROM:+0200
TZOFFSETTO:+0300
TZNAME:EEST
DTSTART:20250330T010000
END:DAYLIGHT
BEGIN:STANDARD
TZOFFSETFROM:+0300
TZOFFSETTO:+0200
TZNAME:EET
DTSTART:20251026T010000
END:STANDARD
END:VTIMEZONE
BEGIN:VEVENT
DTSTART;TZID=Europe/Helsinki:20240305T180000
DTEND;TZID=Europe/Helsinki:20240305T200000
DTSTAMP:20260423T184352
CREATED:20240306T123819Z
LAST-MODIFIED:20240306T123819Z
UID:14942-1709661600-1709668800@p-klubi.fi
SUMMARY:Liikuntaekskursio ilmajoogaan
DESCRIPTION:Kevään liikuntaekskursion kohteena on rentouttava ilmajooga! Ilmajooga yhdistää perinteisen joogaharjoituksen ja ilma-akrobatian. Osa harjoituksista tehdään siis katosta roikkuvan silkkiliinan varassa.\nP-klubin oma ohjattu ilmajoogatunti järjestetään tiistaina 5.3. klo 18-19 Studio Actionin tiloissa\, osoitteessa Ruissalontie 12C. Ekskursio maksaa 10€/osallistuja ja se maksetaan paikan päällä korttimaksuna. Kyseessä on ensikertalaisille suunnattu tunti\, joten aiempaa osaamista ei tarvita!\nMukaan tarvitset joogaan soveltuvat joustavat vaatteet sekä juomapullon. Saavuthan paikalle viimeistään klo 17.45.\nIlmoittautuminen aukeaa maanantai 19.2. klo 12. ja päättyy perjantaina 23.2 klo 12. Paikkoja on vain rajoitetusti!\nLinkki ilmoittautumiseen: https://forms.gle/35Hz9Usy7jBmmXGT7\nJos tulee mitään kysyttävää\, ota matalalla kynnyksellä yhteyttä skpalj@utu.fi 
URL:https://p-klubi.fi/tapahtumakalenteri/liikuntaekskursio-ilmajoogaan/
LOCATION:Studio Action\, Ruissalontie 12 C\, Turku\, 20200\, Finland
END:VEVENT
END:VCALENDAR