BEGIN:VCALENDAR
VERSION:2.0
PRODID:-//P-klubi - ECPv6.15.20//NONSGML v1.0//EN
CALSCALE:GREGORIAN
METHOD:PUBLISH
X-ORIGINAL-URL:https://p-klubi.fi
X-WR-CALDESC:Events for P-klubi
REFRESH-INTERVAL;VALUE=DURATION:PT1H
X-Robots-Tag:noindex
X-PUBLISHED-TTL:PT1H
BEGIN:VTIMEZONE
TZID:Europe/Helsinki
BEGIN:DAYLIGHT
TZOFFSETFROM:+0200
TZOFFSETTO:+0300
TZNAME:EEST
DTSTART:20230326T010000
END:DAYLIGHT
BEGIN:STANDARD
TZOFFSETFROM:+0300
TZOFFSETTO:+0200
TZNAME:EET
DTSTART:20231029T010000
END:STANDARD
BEGIN:DAYLIGHT
TZOFFSETFROM:+0200
TZOFFSETTO:+0300
TZNAME:EEST
DTSTART:20240331T010000
END:DAYLIGHT
BEGIN:STANDARD
TZOFFSETFROM:+0300
TZOFFSETTO:+0200
TZNAME:EET
DTSTART:20241027T010000
END:STANDARD
BEGIN:DAYLIGHT
TZOFFSETFROM:+0200
TZOFFSETTO:+0300
TZNAME:EEST
DTSTART:20250330T010000
END:DAYLIGHT
BEGIN:STANDARD
TZOFFSETFROM:+0300
TZOFFSETTO:+0200
TZNAME:EET
DTSTART:20251026T010000
END:STANDARD
END:VTIMEZONE
BEGIN:VEVENT
DTSTART;TZID=Europe/Helsinki:20240306T180000
DTEND;TZID=Europe/Helsinki:20240306T200000
DTSTAMP:20260423T184319
CREATED:20240305T211548Z
LAST-MODIFIED:20240305T211642Z
UID:14912-1709748000-1709755200@p-klubi.fi
SUMMARY:Laulunjohtajakoulutus
DESCRIPTION:Oletko aina halunnut oppia laulunjohtamisen salat ja päästä lumoamaan sitsikansan?\nOsallistumalla laulunjohtajakoulutukseen pääset toteuttamaan haaveesi ja oppimaan sitsikulttuurin perinteet sekä laulunjohtajan taidot. Koulutukseen osallistuminen ei vaadi sinulta syvällistä tietoa sitsaamisesta eikä erityistä laulutaitoa\, vaan tärkeintä on aito kiinnostus sitsaamista kohtaan! Koulutukseen osallistuminen ei myöskään velvoita toimimaan laulunjohtajana.\nLaulunjohtajakoulutus järjestetään P-klubin toimistolla keskiviikkona 6.3. klo 18:00 alkaen Julia Niinistön johdolla. Koulutuksen aikaan tarjolla on myös pientä purtavaa.\nNappaa laulukirja mukaasi ja suuntaa toimistolle oppimaan laulunjohtamisen salat!\nOsoitteesta bit.ly/laulunjohtaja löydät koulutuksen materiaalit!
URL:https://p-klubi.fi/tapahtumakalenteri/laulunjohtajakoulutus-2024/
LOCATION:Toimisto\, Rehtorinpellonkatu 4B\, Turku\, 20500\, Finland
END:VEVENT
END:VCALENDAR