BEGIN:VCALENDAR
VERSION:2.0
PRODID:-//P-klubi - ECPv6.15.20//NONSGML v1.0//EN
CALSCALE:GREGORIAN
METHOD:PUBLISH
X-ORIGINAL-URL:https://p-klubi.fi
X-WR-CALDESC:Events for P-klubi
REFRESH-INTERVAL;VALUE=DURATION:PT1H
X-Robots-Tag:noindex
X-PUBLISHED-TTL:PT1H
BEGIN:VTIMEZONE
TZID:Europe/Helsinki
BEGIN:DAYLIGHT
TZOFFSETFROM:+0200
TZOFFSETTO:+0300
TZNAME:EEST
DTSTART:20230326T010000
END:DAYLIGHT
BEGIN:STANDARD
TZOFFSETFROM:+0300
TZOFFSETTO:+0200
TZNAME:EET
DTSTART:20231029T010000
END:STANDARD
BEGIN:DAYLIGHT
TZOFFSETFROM:+0200
TZOFFSETTO:+0300
TZNAME:EEST
DTSTART:20240331T010000
END:DAYLIGHT
BEGIN:STANDARD
TZOFFSETFROM:+0300
TZOFFSETTO:+0200
TZNAME:EET
DTSTART:20241027T010000
END:STANDARD
BEGIN:DAYLIGHT
TZOFFSETFROM:+0200
TZOFFSETTO:+0300
TZNAME:EEST
DTSTART:20250330T010000
END:DAYLIGHT
BEGIN:STANDARD
TZOFFSETFROM:+0300
TZOFFSETTO:+0200
TZNAME:EET
DTSTART:20251026T010000
END:STANDARD
END:VTIMEZONE
BEGIN:VEVENT
DTSTART;TZID=Europe/Helsinki:20240314T160000
DTEND;TZID=Europe/Helsinki:20240314T180000
DTSTAMP:20260423T184352
CREATED:20240306T120328Z
LAST-MODIFIED:20240306T120328Z
UID:14925-1710432000-1710439200@p-klubi.fi
SUMMARY:Kevätkokous
DESCRIPTION:Tervetuloa P-klubin sääntömääräiseen kevätkokoukseen torstaina 14.3. kello 16 alkaen Turku-saliin.\nKokouksessa käsitellään yhdistyslaissa ja yhdistyksen säännöissä vaaditut asiat\, kuten kauden 2023 toimintakertomus sekä tilinpäätös. Jäsenistölle välitetään kokouskutsu sekä sen liitteet sähköpostitse.\nTapahtumassa kahvitarjoilu.
URL:https://p-klubi.fi/tapahtumakalenteri/kevatkokous/
LOCATION:Turku-sali\, Rehtorinpellonkatu 4A\, Turku\, Finland
END:VEVENT
END:VCALENDAR