BEGIN:VCALENDAR
VERSION:2.0
PRODID:-//P-klubi - ECPv6.15.20//NONSGML v1.0//EN
CALSCALE:GREGORIAN
METHOD:PUBLISH
X-WR-CALNAME:P-klubi
X-ORIGINAL-URL:https://p-klubi.fi
X-WR-CALDESC:Events for P-klubi
REFRESH-INTERVAL;VALUE=DURATION:PT1H
X-Robots-Tag:noindex
X-PUBLISHED-TTL:PT1H
BEGIN:VTIMEZONE
TZID:Europe/Helsinki
BEGIN:DAYLIGHT
TZOFFSETFROM:+0200
TZOFFSETTO:+0300
TZNAME:EEST
DTSTART:20230326T010000
END:DAYLIGHT
BEGIN:STANDARD
TZOFFSETFROM:+0300
TZOFFSETTO:+0200
TZNAME:EET
DTSTART:20231029T010000
END:STANDARD
BEGIN:DAYLIGHT
TZOFFSETFROM:+0200
TZOFFSETTO:+0300
TZNAME:EEST
DTSTART:20240331T010000
END:DAYLIGHT
BEGIN:STANDARD
TZOFFSETFROM:+0300
TZOFFSETTO:+0200
TZNAME:EET
DTSTART:20241027T010000
END:STANDARD
BEGIN:DAYLIGHT
TZOFFSETFROM:+0200
TZOFFSETTO:+0300
TZNAME:EEST
DTSTART:20250330T010000
END:DAYLIGHT
BEGIN:STANDARD
TZOFFSETFROM:+0300
TZOFFSETTO:+0200
TZNAME:EET
DTSTART:20251026T010000
END:STANDARD
END:VTIMEZONE
BEGIN:VEVENT
DTSTART;VALUE=DATE:20240316
DTEND;VALUE=DATE:20240321
DTSTAMP:20260423T184323
CREATED:20240306T120846Z
LAST-MODIFIED:20240306T120846Z
UID:14927-1710547200-1710979199@p-klubi.fi
SUMMARY:P-klubin ulkomaan ekskursio Brysseliin
DESCRIPTION:Bonjour\, Hallo\, Hoi!\nP-klubin perinteinen ulkomaan ekskursio järjestetään poikkeuksellisesti tänä vuonna jo keväällä\, tarkemmin ottaen maaliskuussa. Ekskursion ajankohta johtuu siitä\, että alumnimme\, Ville Niinistö on lähestynyt P-klubia ja haluaa tarjota meille tilaisuuden vierailla hänen luonaan Europarlamentissa ja tutustua sen toimintaan. Tämän lisäksi tulemme tutustumaan muihin relevantteihin työelämäkohteisiin\, Brysselin kulttuuriin ja sen historiaan.\n \n \nMatka Brysseliin on viisipäiväinen ja ajoittuu 16-20.3.2024. Ekskursio sisältää majoituksen ja menopaluu-lennot Helsingin ja Brysselin välillä.\nEkskursion hinta on enintään noin 400€\, mutta summa tarkentuu lentojen oston ja majoitusten varaamisen jälkeen helmikuun puoliväliin mennessä.\nMatka maksetaan kahdessa erässä niin\, että ensimmäinen osa maksetaan 29.2. mennessä ja toinen osa viimeistään matkan lähtöpäivänä 16.3.\nMatkaa tuetaan rahallisesti Euroopan parlamentin puolelta\, matka- ja majoituskulujen osalta. Tarkka tukisumma ei vielä ole tiedossa\, koska tuki maksetaan takautuvasti kuluselvityksen perusteella\, mutta karkeasti se tulee olemaan noin 200-450€ per henkilö. Tuki maksetaan ensin P-klubin tilille\, jonka jälkeen P-klubi jakaa saadun tuen määrän tasan matkan osallistujien kesken.\n \nHuom! lentojen alustavaan hintaan kuuluu ainoastaan pieni\, istuimen alle mahtuva käsimatkatavara (40cm x 20cm x 25 cm)\nHalutessa lisää matkatavaratilaa per suunta saa +28\,75€ (55 x 40 x 20 cm / 10 kg) tai +31\,74€ (ruumaan menevä/ 20kg) hintaan.\n \n \nMahdollisia päästökompensaatioita P-klubilla ei ole mahdollista kustantaa\, mutta halutessasi pystyt kompensoimaan omat lentopäästösi esimerkiksi suomalaisen Ilmastoapu Oy –nimisen yrityksen kautta.\nKyseisen Helsinki-Bryssel-Helsinki –lentoreitin päästöt pystyt kompensoimaan Ilmastoapu Oy yrityksen verkkokaupassa hintaan 13\,60€. Kyseinen yritys tarjoaa erilaisia päästöhyvityksiä\, mutta esimerkiksi lentopäästöjen kompensointi tapahtuu kotimaan hiilinieluilla\, istuttamalla uutta metsää turvetuotannosta poistuneelle suopohjalle.\nSuora linkki Euroopan edestakaisen lennon päästöhyvitykseen 1\,2t CO2: https://www.ilmastoapu.fi/tuote/19467875.\nLisätietoja kyseisestä yrityksestä sekä heidän toiminnasta sivustolta https://www.ilmastoapu.fi/.\n \n \nIlmoittautuminen ekskursiolle alkaa torstaina 1.2. klo 12:00 ja päättyy maanantaina 5.2. klo 12:00\nLinkki ilmoittautumiseen: https://forms.gle/VAHCvzuUQPfMTS8X8\nHUOM! Ilmoittautuminen on sitova!\n \nMITÄ? P-klubin Brysselin valloitus\nMISSÄ? Bryssel\, Belgia\nMILLOIN? 16-20.3.\nMITÄ MAKSAA? Ennen tukirahan jakamista enintään 400€\n \nLisäkysymyksissä voit olla yhteydessä ekskursiovastaaviin:\nMeri-Tuulia Korhonen (meri-tuulia.a.korhonen@utu.fi)\nVanessa Luovikari (vanessa.c.luovikari@utu.fi)
URL:https://p-klubi.fi/tapahtumakalenteri/p-klubin-ulkomaan-ekskursio-brysseliin/
LOCATION:Bryssel\, Belgium
END:VEVENT
END:VCALENDAR