BEGIN:VCALENDAR
VERSION:2.0
PRODID:-//P-klubi - ECPv6.15.20//NONSGML v1.0//EN
CALSCALE:GREGORIAN
METHOD:PUBLISH
X-WR-CALNAME:P-klubi
X-ORIGINAL-URL:https://p-klubi.fi
X-WR-CALDESC:Events for P-klubi
REFRESH-INTERVAL;VALUE=DURATION:PT1H
X-Robots-Tag:noindex
X-PUBLISHED-TTL:PT1H
BEGIN:VTIMEZONE
TZID:Europe/Helsinki
BEGIN:DAYLIGHT
TZOFFSETFROM:+0200
TZOFFSETTO:+0300
TZNAME:EEST
DTSTART:20230326T010000
END:DAYLIGHT
BEGIN:STANDARD
TZOFFSETFROM:+0300
TZOFFSETTO:+0200
TZNAME:EET
DTSTART:20231029T010000
END:STANDARD
BEGIN:DAYLIGHT
TZOFFSETFROM:+0200
TZOFFSETTO:+0300
TZNAME:EEST
DTSTART:20240331T010000
END:DAYLIGHT
BEGIN:STANDARD
TZOFFSETFROM:+0300
TZOFFSETTO:+0200
TZNAME:EET
DTSTART:20241027T010000
END:STANDARD
BEGIN:DAYLIGHT
TZOFFSETFROM:+0200
TZOFFSETTO:+0300
TZNAME:EEST
DTSTART:20250330T010000
END:DAYLIGHT
BEGIN:STANDARD
TZOFFSETFROM:+0300
TZOFFSETTO:+0200
TZNAME:EET
DTSTART:20251026T010000
END:STANDARD
END:VTIMEZONE
BEGIN:VEVENT
DTSTART;TZID=Europe/Helsinki:20240321T160000
DTEND;TZID=Europe/Helsinki:20240321T220000
DTSTAMP:20260423T184320
CREATED:20240306T121647Z
LAST-MODIFIED:20240306T121900Z
UID:14930-1711036800-1711058400@p-klubi.fi
SUMMARY:Sinisten haalareiden rastikierros
DESCRIPTION:Heippa!\nOnko selkeempää kevään merkkiä kuin siniset haalarit valloittamassa jälleen yliopiston alueen rastikierroksen merkeissä? Kuten murmeli kömpimällä kolostaan\, niin tänäkin vuonna Anglica\, P-Klubi\, Forum Romanum\, Adamas\, Putex\, Ky-Troika\, Ky-Tricolore\, Wiiniklubi\, Nucleus sekä Ky-Hansa ennustavat kevään merkkiä kokoontumalla torstaina 21.3. rastikierroksen pariin\, jonka jälkeen siniset haalarit suuntaavat tietenkin unohtumattomille jatkoille Dorikseen.\nKokoa siis 3-6 hengen joukkue ja tule aloittelemaan ilta rastikierrokselle\, jossa parhain joukkue palkitaan! Ilmoittautuminen tapahtumaan aukeaa 9.3. klo 14\, jonne yksi henkilö joukkueesta ilmoittautuu. Rasteja kiertämään mahtuu ensimmäiset 35 tiimiä\, joten ole nopea! Yksi henkilö tiimistä siis ilmoittaa koko joukkueen. Forms-lomake julkaistaan ennen ilmoittautumisen alkua ja se aukeaa kun kello lyö 14. Ilmoittautuminen päättyy 14.3. klo 12. Kierros kustantaa 6 € per osallistuja ja se sisältää rastien lystin lisäksi upean haalarimerkin\, sekä pääsyn ainutlaatuisille jatkoille. Maksuohjeet tulevat myöhemmin sähköpostiin.\nHUOMIO: Kaikki ilmoittautumiset\, jotka on lähetetty ennen 9.3. kello 14.00\, tullaan mitätöimään.\nIlmoittautumislomake: https://forms.gle/Aw45VstfggyhS1ZN7\nÄlä huoli\, jos et pääse rastikierrokselle\, sillä jatkobileet ovat avoinna muunkin värisille haalareille edulliseen 3 € hintaan.\nRastikierros alkaa klo 16:00 yliopiston päärakennuksen edustalta\, jossa saatte tarvittavat infot sekä haalarimerkin. Rastit sijaitsevat Yliopiston läheisyydessä ja niiden sijainnin näkee sähköisestä kartasta.\nNähdään rasteilla ja jatkoilemassa!\n \nRakkain terveisin\,\nAnglica\, P-Klubi\, Forum Romanum\, Adamas\, Putex\, Ky-Troika\, Ky-Tricolore\, Wiiniklubi\, Nucleus sekä\nKy-Hansa\n \nMITÄ? Sinisten haalarien rastikierros ja bileet\nMISSÄ? Päärakennuksen edessä klo 16:00\, jatkobileet Doris klo 22:00 –>\nMILLOIN? Torstaina 21.3.\nKUI PAL? 6 € (pelkät jatkot 3 €)\nMITÄ PÄÄL? Tietenkin SINISET haalarit!
URL:https://p-klubi.fi/tapahtumakalenteri/sinisten-haalareiden-rastikierros/
LOCATION:Turku\, Finland
END:VEVENT
END:VCALENDAR