BEGIN:VCALENDAR
VERSION:2.0
PRODID:-//P-klubi - ECPv6.15.20//NONSGML v1.0//EN
CALSCALE:GREGORIAN
METHOD:PUBLISH
X-WR-CALNAME:P-klubi
X-ORIGINAL-URL:https://p-klubi.fi
X-WR-CALDESC:Events for P-klubi
REFRESH-INTERVAL;VALUE=DURATION:PT1H
X-Robots-Tag:noindex
X-PUBLISHED-TTL:PT1H
BEGIN:VTIMEZONE
TZID:Europe/Helsinki
BEGIN:DAYLIGHT
TZOFFSETFROM:+0200
TZOFFSETTO:+0300
TZNAME:EEST
DTSTART:20230326T010000
END:DAYLIGHT
BEGIN:STANDARD
TZOFFSETFROM:+0300
TZOFFSETTO:+0200
TZNAME:EET
DTSTART:20231029T010000
END:STANDARD
BEGIN:DAYLIGHT
TZOFFSETFROM:+0200
TZOFFSETTO:+0300
TZNAME:EEST
DTSTART:20240331T010000
END:DAYLIGHT
BEGIN:STANDARD
TZOFFSETFROM:+0300
TZOFFSETTO:+0200
TZNAME:EET
DTSTART:20241027T010000
END:STANDARD
BEGIN:DAYLIGHT
TZOFFSETFROM:+0200
TZOFFSETTO:+0300
TZNAME:EEST
DTSTART:20250330T010000
END:DAYLIGHT
BEGIN:STANDARD
TZOFFSETFROM:+0300
TZOFFSETTO:+0200
TZNAME:EET
DTSTART:20251026T010000
END:STANDARD
END:VTIMEZONE
BEGIN:VEVENT
DTSTART;TZID=Europe/Helsinki:20240325T180000
DTEND;TZID=Europe/Helsinki:20240325T210000
DTSTAMP:20260423T184321
CREATED:20240306T122159Z
LAST-MODIFIED:20240306T122159Z
UID:14933-1711389600-1711400400@p-klubi.fi
SUMMARY:Henkilökunnan ja fuksien ilta
DESCRIPTION:Hei fuksit!\nTervetuloa viettämään aikaa valtio-opin ja poliittisen historian henkilökunnan kanssa 25.3 klo 18 alkaen Proffan kellarissa!\nEnsimmäisen vuoden opiskelijoilla on nyt oiva mahdollisuus tulla tutustumaan henkilökuntaan rennossa ilmapiirissä. Myös vanhemmat opiskelijat ovat tervetulleita. Luvassa on yhteistä tekemistä\, jutustelua ja pientä purtavaa. Tule tutustumaan tai vaikka vain hengaamaan!\nMitä? Ensimmäisen vuoden opiskelijoiden ja henkilökunnan illanvietto\nMissä? Proffan kellari (Rehtorinpellonkatu 6)\nMilloin? 25.3 klo 18 eteenpäin
URL:https://p-klubi.fi/tapahtumakalenteri/henkilokunnan-ja-fuksien-ilta/
LOCATION:Proffan kellari\, Rehtorinpellonkatu 6\, Turku\, 20500\, Finland
END:VEVENT
END:VCALENDAR