BEGIN:VCALENDAR
VERSION:2.0
PRODID:-//P-klubi - ECPv6.15.20//NONSGML v1.0//EN
CALSCALE:GREGORIAN
METHOD:PUBLISH
X-ORIGINAL-URL:https://p-klubi.fi
X-WR-CALDESC:Events for P-klubi
REFRESH-INTERVAL;VALUE=DURATION:PT1H
X-Robots-Tag:noindex
X-PUBLISHED-TTL:PT1H
BEGIN:VTIMEZONE
TZID:Europe/Helsinki
BEGIN:DAYLIGHT
TZOFFSETFROM:+0200
TZOFFSETTO:+0300
TZNAME:EEST
DTSTART:20230326T010000
END:DAYLIGHT
BEGIN:STANDARD
TZOFFSETFROM:+0300
TZOFFSETTO:+0200
TZNAME:EET
DTSTART:20231029T010000
END:STANDARD
BEGIN:DAYLIGHT
TZOFFSETFROM:+0200
TZOFFSETTO:+0300
TZNAME:EEST
DTSTART:20240331T010000
END:DAYLIGHT
BEGIN:STANDARD
TZOFFSETFROM:+0300
TZOFFSETTO:+0200
TZNAME:EET
DTSTART:20241027T010000
END:STANDARD
BEGIN:DAYLIGHT
TZOFFSETFROM:+0200
TZOFFSETTO:+0300
TZNAME:EEST
DTSTART:20250330T010000
END:DAYLIGHT
BEGIN:STANDARD
TZOFFSETFROM:+0300
TZOFFSETTO:+0200
TZNAME:EET
DTSTART:20251026T010000
END:STANDARD
END:VTIMEZONE
BEGIN:VEVENT
DTSTART;TZID=Europe/Helsinki:20240404T180000
DTEND;TZID=Europe/Helsinki:20240404T210000
DTSTAMP:20260423T201527
CREATED:20240306T122656Z
LAST-MODIFIED:20240323T085934Z
UID:14936-1712253600-1712264400@p-klubi.fi
SUMMARY:Kulttuuriekskursio I/O-speksin ensi-iltaan
DESCRIPTION:Aika pyyhkiä teatterikiikarit pölyistä!\nSaamme kunnian päästä näkemään tämän vuoden ensimmäisen I/O Speksin näytöksen 4.4. KLO 18. Paikkoja P-klubilaisille on vain 10\, joten ole nopea ja varmista itsellesi lippu alennettuun ekskursiohintaan. Mikäli et kerennyt saamaan lippua kiintiöstä\, voit silti ostaa sellaisen yleisestä lipunmyynnistä ja tulla klubitovereiden kanssa nauttimaan esityksestä.\n \nJos Speksin hullunkurinen konsepti ei ole vielä tuttu\, pääset tutustumaan siihen täältä:\nhttps://iospeksi.fi/i-o-speksi/\nIlmoittautuminen alkaa torstaina 7.3. klo 12.00 alla olevasta linkistä:\nhttps://forms.gle/4sQNZatUvDsdMFEP8\nMaksuohjeet lähetetään mukaan mahtuneille.\n \n…..\n \nBästa publik! Är ni redo att lösa mysteriet? Packa med passet och tandborsten\, nu åker vi!\nI/O-speksi presenterar stolt: V\n \nNuori pariskunta saapuu Tukholmaan ongelmien ratkaisemisen ja parempien sukulaisuussuhteiden toivossa. Vuoden 1999 taidehuutokauppa VisI/O järjestetään viimeistä kertaa tunnetun taidelegendan Emilia Duvallin uran päätöksenä. Paikalla on paljon räiskyviä taiteen ystäviä – ja heidän vihollisiaan.\n \nLöytyykö matkan aikana oivalluksia?\nKuka hiipii Gallerian varjoissa?\nEntä mitä iltapäivälehtien kansissa oleva V-kirjain todellisuudessaan tarkoittaa?\n \nMITÄ: I/O-Speksin vuoden 2024 produktio V\nMISSÄ: Manillan Aurinkobaletissa\, osoite Itäinen Rantakatu 64\nMILLOIN: 4.4. KLO 18\nMITÄ MAKSAA: Ainejärjestöekskursio 14€\, opiskelijalippu 16€\nMIKSI: koska ketäpä ei kiinnostaisi selvitellä hohdokasta taidemysteeriä Tukholmassa\, myös koska kulttuurielämykset rikastavat sielua
URL:https://p-klubi.fi/tapahtumakalenteri/kulttuuriekskursio-i-o-speksin-ensi-iltaan/
LOCATION:Manilla-teatteri\, Itäinen Rantakatu 64\, Turku\, 20810\, Finland
END:VEVENT
END:VCALENDAR