BEGIN:VCALENDAR
VERSION:2.0
PRODID:-//P-klubi - ECPv6.15.20//NONSGML v1.0//EN
CALSCALE:GREGORIAN
METHOD:PUBLISH
X-ORIGINAL-URL:https://p-klubi.fi
X-WR-CALDESC:Events for P-klubi
REFRESH-INTERVAL;VALUE=DURATION:PT1H
X-Robots-Tag:noindex
X-PUBLISHED-TTL:PT1H
BEGIN:VTIMEZONE
TZID:Europe/Helsinki
BEGIN:DAYLIGHT
TZOFFSETFROM:+0200
TZOFFSETTO:+0300
TZNAME:EEST
DTSTART:20230326T010000
END:DAYLIGHT
BEGIN:STANDARD
TZOFFSETFROM:+0300
TZOFFSETTO:+0200
TZNAME:EET
DTSTART:20231029T010000
END:STANDARD
BEGIN:DAYLIGHT
TZOFFSETFROM:+0200
TZOFFSETTO:+0300
TZNAME:EEST
DTSTART:20240331T010000
END:DAYLIGHT
BEGIN:STANDARD
TZOFFSETFROM:+0300
TZOFFSETTO:+0200
TZNAME:EET
DTSTART:20241027T010000
END:STANDARD
BEGIN:DAYLIGHT
TZOFFSETFROM:+0200
TZOFFSETTO:+0300
TZNAME:EEST
DTSTART:20250330T010000
END:DAYLIGHT
BEGIN:STANDARD
TZOFFSETFROM:+0300
TZOFFSETTO:+0200
TZNAME:EET
DTSTART:20251026T010000
END:STANDARD
END:VTIMEZONE
BEGIN:VEVENT
DTSTART;TZID=Europe/Helsinki:20240417T160000
DTEND;TZID=Europe/Helsinki:20240417T180000
DTSTAMP:20260423T201527
CREATED:20240405T181155Z
LAST-MODIFIED:20240405T181155Z
UID:15350-1713369600-1713376800@p-klubi.fi
SUMMARY:Viini ja valitus
DESCRIPTION:Kevään luentokurssit alkavat olla taputeltu\, ja meillä kaikilla on niistä varmasti paljon sanottavaa. Onkin siis aika kerääntyä toimistolle keskustelemaan kevään kurssien risuista ja ruusuista. Tarjolla on ajankohtaisen koulutuspoliittisen keskustelun lisäksi viiniä ja muuta naposteltavaa. Vaikket olisi hetkeen luennoilla käynyt\, olet tervetullut nauttimaan illan tarjoiluista!
URL:https://p-klubi.fi/tapahtumakalenteri/viini-ja-valitus-2/
LOCATION:Toimisto\, Rehtorinpellonkatu 4B\, Turku\, 20500\, Finland
END:VEVENT
END:VCALENDAR