BEGIN:VCALENDAR
VERSION:2.0
PRODID:-//P-klubi - ECPv6.15.20//NONSGML v1.0//EN
CALSCALE:GREGORIAN
METHOD:PUBLISH
X-WR-CALNAME:P-klubi
X-ORIGINAL-URL:https://p-klubi.fi
X-WR-CALDESC:Events for P-klubi
REFRESH-INTERVAL;VALUE=DURATION:PT1H
X-Robots-Tag:noindex
X-PUBLISHED-TTL:PT1H
BEGIN:VTIMEZONE
TZID:Europe/Helsinki
BEGIN:DAYLIGHT
TZOFFSETFROM:+0200
TZOFFSETTO:+0300
TZNAME:EEST
DTSTART:20230326T010000
END:DAYLIGHT
BEGIN:STANDARD
TZOFFSETFROM:+0300
TZOFFSETTO:+0200
TZNAME:EET
DTSTART:20231029T010000
END:STANDARD
BEGIN:DAYLIGHT
TZOFFSETFROM:+0200
TZOFFSETTO:+0300
TZNAME:EEST
DTSTART:20240331T010000
END:DAYLIGHT
BEGIN:STANDARD
TZOFFSETFROM:+0300
TZOFFSETTO:+0200
TZNAME:EET
DTSTART:20241027T010000
END:STANDARD
BEGIN:DAYLIGHT
TZOFFSETFROM:+0200
TZOFFSETTO:+0300
TZNAME:EEST
DTSTART:20250330T010000
END:DAYLIGHT
BEGIN:STANDARD
TZOFFSETFROM:+0300
TZOFFSETTO:+0200
TZNAME:EET
DTSTART:20251026T010000
END:STANDARD
END:VTIMEZONE
BEGIN:VEVENT
DTSTART;TZID=Europe/Helsinki:20240422T180000
DTEND;TZID=Europe/Helsinki:20240422T200000
DTSTAMP:20260423T201520
CREATED:20240410T192346Z
LAST-MODIFIED:20240410T192346Z
UID:15359-1713808800-1713816000@p-klubi.fi
SUMMARY:P-klubin pesistreenit
DESCRIPTION:Vuoden liikuntatapahtumien kohokohta on pian täällä! Kritiikkipesis järjestetään tänä vuonna lauantaina 27.4. klo 14 tuttuun tapaan Kupittaan pesäpallostadionilla.\nKaipaako lyöntisi kuitenkin vielä hiomista? Kumpaan käteen se räpylä laitettiinkaan?\nNyt on loistava mahdollisuus ottaa varaslähtö vappuviikkoon ja varmistaa voitto kotiin virallisessa ottelussa! Tule siis pesistreeneihin klubikavereittesi kanssa maanantaina 22.4. klo 18 alkaen. Treenit sijaitsevat Samppalinnankentällä osoitteessa Carl von Heidekenin polku 8. Paikalle järjestetään pesisvälineet\, mutta omia räpylöitä saa mielellään ottaa mukaan. Osallistuminen treeneihin ei sido pelaamiseen Kritiikki-ottelussa!\nKysymykset\, ideat ja toiveet voi osoittaa liikkavastaavallenne skpalj@utu.fi 
URL:https://p-klubi.fi/tapahtumakalenteri/p-klubin-pesistreenit/
LOCATION:Samppalinnankenttä\, Carl von Heidekenin polku 8\, Turku\, Finland
END:VEVENT
END:VCALENDAR