BEGIN:VCALENDAR
VERSION:2.0
PRODID:-//P-klubi - ECPv6.15.20//NONSGML v1.0//EN
CALSCALE:GREGORIAN
METHOD:PUBLISH
X-WR-CALNAME:P-klubi
X-ORIGINAL-URL:https://p-klubi.fi
X-WR-CALDESC:Events for P-klubi
REFRESH-INTERVAL;VALUE=DURATION:PT1H
X-Robots-Tag:noindex
X-PUBLISHED-TTL:PT1H
BEGIN:VTIMEZONE
TZID:Europe/Helsinki
BEGIN:DAYLIGHT
TZOFFSETFROM:+0200
TZOFFSETTO:+0300
TZNAME:EEST
DTSTART:20230326T010000
END:DAYLIGHT
BEGIN:STANDARD
TZOFFSETFROM:+0300
TZOFFSETTO:+0200
TZNAME:EET
DTSTART:20231029T010000
END:STANDARD
BEGIN:DAYLIGHT
TZOFFSETFROM:+0200
TZOFFSETTO:+0300
TZNAME:EEST
DTSTART:20240331T010000
END:DAYLIGHT
BEGIN:STANDARD
TZOFFSETFROM:+0300
TZOFFSETTO:+0200
TZNAME:EET
DTSTART:20241027T010000
END:STANDARD
BEGIN:DAYLIGHT
TZOFFSETFROM:+0200
TZOFFSETTO:+0300
TZNAME:EEST
DTSTART:20250330T010000
END:DAYLIGHT
BEGIN:STANDARD
TZOFFSETFROM:+0300
TZOFFSETTO:+0200
TZNAME:EET
DTSTART:20251026T010000
END:STANDARD
END:VTIMEZONE
BEGIN:VEVENT
DTSTART;TZID=Europe/Helsinki:20240430T120000
DTEND;TZID=Europe/Helsinki:20240430T140000
DTSTAMP:20260423T201518
CREATED:20240411T152057Z
LAST-MODIFIED:20240412T153425Z
UID:15374-1714478400-1714485600@p-klubi.fi
SUMMARY:Laitosbooli
DESCRIPTION:Vappuaatto alkaa perinteisin menoin laitospuistosta poliittisen historian rakennuksen portailta. Publicumin pihalla myös muut Indexin jäsenjärjestöt tarjoilevat boolia ja sirkushuveja.
URL:https://p-klubi.fi/tapahtumakalenteri/vappuboolit/
LOCATION:Laitospuisto
END:VEVENT
BEGIN:VEVENT
DTSTART;TZID=Europe/Helsinki:20240430T163000
DTEND;TZID=Europe/Helsinki:20240430T190000
DTSTAMP:20260423T201518
CREATED:20240411T153040Z
LAST-MODIFIED:20240411T153040Z
UID:15376-1714494600-1714503600@p-klubi.fi
SUMMARY:Lakitustilaisuus
DESCRIPTION:Perinteinen lakitustilaisuus Taidemuseonmäellä alkaa klo 17:30 ja valkolakit pääsemme painamaan päähämme klo 18:00. Ennen lakitusta kokoonnumme yhdessä jo edesmenneen Lenin-patsaan juurelle.
URL:https://p-klubi.fi/tapahtumakalenteri/lakitustilaisuus/
LOCATION:Taidemuseonmäki\, Puolalanpuisto\, Turku\, 20100\, Finland
END:VEVENT
BEGIN:VEVENT
DTSTART;TZID=Europe/Helsinki:20240430T190000
DTEND;TZID=Europe/Helsinki:20240430T233000
DTSTAMP:20260423T201518
CREATED:20240411T153519Z
LAST-MODIFIED:20240411T153519Z
UID:15379-1714503600-1714519800@p-klubi.fi
SUMMARY:Vappusauna
DESCRIPTION:Taidemuseonmäeltä suuntaamme saunalle nauttimaan huhtikuun viimeisistä hetkistä yhdessä. Suuntaamme Parkin kentän vieressä sijaitsevaan Pyrkivän saunatilaan\, jossa voi nauttia virvokkeista\, musiikista ja seurasta! Juhlat jatkuvat puolen yön yli.
URL:https://p-klubi.fi/tapahtumakalenteri/vappusauna/
LOCATION:Pyrkivän sauna\, Tuureporinkatu 2b\, Turku\, 20100\, Finland
END:VEVENT
END:VCALENDAR