BEGIN:VCALENDAR
VERSION:2.0
PRODID:-//P-klubi - ECPv6.15.20//NONSGML v1.0//EN
CALSCALE:GREGORIAN
METHOD:PUBLISH
X-ORIGINAL-URL:https://p-klubi.fi
X-WR-CALDESC:Events for P-klubi
REFRESH-INTERVAL;VALUE=DURATION:PT1H
X-Robots-Tag:noindex
X-PUBLISHED-TTL:PT1H
BEGIN:VTIMEZONE
TZID:Europe/Helsinki
BEGIN:DAYLIGHT
TZOFFSETFROM:+0200
TZOFFSETTO:+0300
TZNAME:EEST
DTSTART:20240331T010000
END:DAYLIGHT
BEGIN:STANDARD
TZOFFSETFROM:+0300
TZOFFSETTO:+0200
TZNAME:EET
DTSTART:20241027T010000
END:STANDARD
BEGIN:DAYLIGHT
TZOFFSETFROM:+0200
TZOFFSETTO:+0300
TZNAME:EEST
DTSTART:20250330T010000
END:DAYLIGHT
BEGIN:STANDARD
TZOFFSETFROM:+0300
TZOFFSETTO:+0200
TZNAME:EET
DTSTART:20251026T010000
END:STANDARD
BEGIN:DAYLIGHT
TZOFFSETFROM:+0200
TZOFFSETTO:+0300
TZNAME:EEST
DTSTART:20260329T010000
END:DAYLIGHT
BEGIN:STANDARD
TZOFFSETFROM:+0300
TZOFFSETTO:+0200
TZNAME:EET
DTSTART:20261025T010000
END:STANDARD
END:VTIMEZONE
BEGIN:VEVENT
DTSTART;TZID=Europe/Helsinki:20250213T160000
DTEND;TZID=Europe/Helsinki:20250213T180000
DTSTAMP:20260425T204534
CREATED:20250205T132807Z
LAST-MODIFIED:20250205T132807Z
UID:16941-1739462400-1739469600@p-klubi.fi
SUMMARY:P-klubi 50 vuotta -juhlajulkaisutoimikunta
DESCRIPTION:Rakas ainejärjestömme täyttää 50 vuotta! On aika yhdistää voimat ja viimeistellä P-klubin 50-vuotisjuhlajulkaisu kevään 2025 aikana! \n\n\n\nP-klubin historiasta on tilattu pro gradu -tutkielma sekä siihen pohjautuva populaariversio jo vuonna 2023\, jonka piti valmistua tälle vuodelle. Sopimus kuitenkin kariutui klubista riippumattomista syistä\, joten jäsenistöä tarvitaan\, jotta saamme yhteisvoimin tuotettua juhlajulkaisun loppuun. \n\n\n\nTule mukaan parsimaan kasaan 50-vuotisjuhlajulkaisua! Voit esimerkiksi ottaa osaa historian kirjoittamiseen\, kirjoittaa omista muistelmistasi tai haastatella alumnia hänen opiskeluvuosistaan. Pääset myös halutessasi mukaan taittamaan\, kuvittamaan ja suunnittelemaan. Jos projekti yhtään innostaa\, liity mukaan toimikuntaan matalalla kynnyksellä! \n\n\n\nJuhlajulkaisutoimikunta kokoontuu ensimmäisen kerran Toimistolla torstaina 13.2. klo 16! Tervetuloa mukaan! \n\n\n\nProjektiin osaa ottaneet saavat nimensä julkaisun toimituskuntaan!Linkki toimituskunnan Whatsapp ryhmään: https://chat.whatsapp.com/DaoOOZYobDYCyuCyU9gKNw \n\n\n\nMITÄ? Kirjoittamista\, taittamista\, suunnittelua\, kuvittamista\, yms.\,MISSÄ? P-klubin ToimistollaMIKSI? Jotta ainejärjestömme historia ja rakkaat muistot eivät unohdu! \n\n\n\nLisätietoja P-klubin sihteeri Eetu Hakuliselta (ehhaku@utu.fi)
URL:https://p-klubi.fi/tapahtumakalenteri/p-klubi-50-vuotta-juhlajulkaisutoimikunta/
LOCATION:Toimisto\, Rehtorinpellonkatu 4B\, Turku\, 20500\, Finland
END:VEVENT
END:VCALENDAR