BEGIN:VCALENDAR
VERSION:2.0
PRODID:-//P-klubi - ECPv6.15.20//NONSGML v1.0//EN
CALSCALE:GREGORIAN
METHOD:PUBLISH
X-ORIGINAL-URL:https://p-klubi.fi
X-WR-CALDESC:Events for P-klubi
REFRESH-INTERVAL;VALUE=DURATION:PT1H
X-Robots-Tag:noindex
X-PUBLISHED-TTL:PT1H
BEGIN:VTIMEZONE
TZID:Europe/Helsinki
BEGIN:DAYLIGHT
TZOFFSETFROM:+0200
TZOFFSETTO:+0300
TZNAME:EEST
DTSTART:20240331T010000
END:DAYLIGHT
BEGIN:STANDARD
TZOFFSETFROM:+0300
TZOFFSETTO:+0200
TZNAME:EET
DTSTART:20241027T010000
END:STANDARD
BEGIN:DAYLIGHT
TZOFFSETFROM:+0200
TZOFFSETTO:+0300
TZNAME:EEST
DTSTART:20250330T010000
END:DAYLIGHT
BEGIN:STANDARD
TZOFFSETFROM:+0300
TZOFFSETTO:+0200
TZNAME:EET
DTSTART:20251026T010000
END:STANDARD
BEGIN:DAYLIGHT
TZOFFSETFROM:+0200
TZOFFSETTO:+0300
TZNAME:EEST
DTSTART:20260329T010000
END:DAYLIGHT
BEGIN:STANDARD
TZOFFSETFROM:+0300
TZOFFSETTO:+0200
TZNAME:EET
DTSTART:20261025T010000
END:STANDARD
END:VTIMEZONE
BEGIN:VEVENT
DTSTART;TZID=Europe/Helsinki:20250225T180000
DTEND;TZID=Europe/Helsinki:20250225T220000
DTSTAMP:20260424T205919
CREATED:20250205T133137Z
LAST-MODIFIED:20250205T133137Z
UID:16943-1740506400-1740520800@p-klubi.fi
SUMMARY:P-klubin kaverisitsit 2025
DESCRIPTION:Huhun mukaan jokainen tarvitsee halpoja kaljoja ja ystävän\, jolle voi sanoa ystävä\, minkä takia P-klubin kaverisitsit ovat taas täällä! \n\n\n\nNappaa siis kaveri kainaloon\, pakkaa halvat kaljat reppuun ja suuntaa Q-talolle tiistaina 25.2. klo 18.00 alkaen. Sitsien teemana toimii “double-trouble” ja parhaasta asusta on luvassa palkinto. Olitte sitten Bonnie ja Clyde tai laktoosi-intoleranssi ja kerma\, varmistathan\, että juuri teidän kauhukaksikko on se kaikista kekseliäin. Tutut ja turvalliset haalarit kannattaa kuitenkin vaihtaa viimeistään jatkoille. \n\n\n\nIlmoittautuminen aukeaa keskiviikkona 12.2. klo 12.00 ja sulkeutuu sunnuntaina 16.2. klo 23.59. Huomaathan\, että yksi osallistuja ilmoittaa molemmat! Koska kyseessä ovat erityisen suositut sitsit\, kannattaa paikat itselle ja kaverille lunastaa nopeasti. Ennen klo 12.00 tulleet ilmoittautumiset hylätään. Peruuttaminen on mahdollista ilmoitusajan päättymiseen saakka. \n\n\n\nLinkki ilmoittautumiseen: https://forms.gle/zNRw5i8vZHryPJk2A \n\n\n\nSitsit maksavat 13 € /15 € per henkilö juomavalinnasta riippuen. Maksuohjeet lähetetään sitseille mahtuneille ilmoittautumisajan päätyttyä. Ilmoittaja maksaa molempien osallistujien sitsimaksun. Huomaathan\, että tapahtuma on OPM. \n\n\n\nSitsien päätyttyä platonista rakkautta on ilmassa Vegasissa\, jonne koko jäsenistö on tervetullut. Jatkoista pääset nauttimaan kolmen euron erillisellä pääsymaksulla. \n\n\n\nP-klubin alkoholillisissa tapahtumissa on käytössä turvahenkilöt\, jotka toimivat avun ensiasteena tarvittaessa. Tunnistat heidät “Turvahenkilö”-pinsseistä. Jäsenistösitsien turvahenkilöinä toimivat: \n\n\n\nLoviisa Pitenius 040 131 6555Roosa Järvenpää 045 879 3949Voit olla heihin yhteydessä matalalla kynnyksellä ongelmatilanteissa. \n\n\n\nLisätietoja turvahenkilökäytännöistä saat yhdenvertaisuusvastaavilta Pihla Posti (pipost@utu.fi) ja Vanessa Luovikari (vcluov@utu.fi) \n\n\n\nMikäli sitseistä herää kysymyksiä\, olethan yhteydessä festiksiin\, festikset@gmail.com \n\n\n\nSitsijalka vipattaen\,Roosa ja Loviisa \n\n\n\n<3<3<3<3<3<3 \n\n\n\nPlatonic love is in the air when P-klubi´s celebrated friend-sitz party is lurking around the corner! \n\n\n\nMake sure to grab your friend and turn up at Q-talo on February 25th from 18:00 onwards. The theme for the sitz party is “double-trouble” and the best costumes will be awarded. Whether you dress up as Bonnie and Clyde or lactose-intolerance and cream\, use your creativity and show up as the most troublesome duo. Your tried and tested overalls will however serve you best at the after party. \n\n\n\nThe registration starts on Wednesday\, February 12th at 12:00 and ends on Sunday\, February 20th at 12:00. Please note that one person will register both people! The friend-sitz party is particularly popular so be fast! Registrations made before 12:00 will be dismissed. You’re free to cancel your participation anytime before the registration ends. \n\n\n\nThe link to registration: https://forms.gle/zNRw5i8vZHryPJk2A \n\n\n\nThe sitz party costs 13 € / 15 € per person depending on your drink of choice. The payment instructions will be sent after the registration ends to everyone who secured a spot. The registrator will pay for both participants. Please note that the event is “bring your own bottle”. \n\n\n\nFriendship will be further celebrated after the sitz party at Vegas\, where all members are welcome. You can purchase your place at the after party for a three euro fee at the door. \n\n\n\nEvery P-klubi event featuring alcohol has designated personnel in charge of safety\, who are ready to provide initial help with any troubles that might occur. The people in charge of security wear a “Turvahenkilö”- pin. The people in charge of safety at this sitz party are: \n\n\n\nLoviisa Pitenius 040 131 6555Roosa Järvenpää 045 879 3949Feel free to contact us with a low threshold in case of concern. \n\n\n\nYou can access more information about the safety and security principles by contacting our equality officers Pihla Posti (pipost@utu.fi) and Vanessa Luovikari (vcluov@utu.fi) \n\n\n\nAny questions about the sitz party can be sent to festikset@gmail.com \n\n\n\nYours truly\,Roosa and Loviisa
URL:https://p-klubi.fi/tapahtumakalenteri/p-klubin-kaverisitsit-2025/
END:VEVENT
END:VCALENDAR