BEGIN:VCALENDAR
VERSION:2.0
PRODID:-//P-klubi - ECPv6.15.20//NONSGML v1.0//EN
CALSCALE:GREGORIAN
METHOD:PUBLISH
X-WR-CALNAME:P-klubi
X-ORIGINAL-URL:https://p-klubi.fi
X-WR-CALDESC:Events for P-klubi
REFRESH-INTERVAL;VALUE=DURATION:PT1H
X-Robots-Tag:noindex
X-PUBLISHED-TTL:PT1H
BEGIN:VTIMEZONE
TZID:Europe/Helsinki
BEGIN:DAYLIGHT
TZOFFSETFROM:+0200
TZOFFSETTO:+0300
TZNAME:EEST
DTSTART:20240331T010000
END:DAYLIGHT
BEGIN:STANDARD
TZOFFSETFROM:+0300
TZOFFSETTO:+0200
TZNAME:EET
DTSTART:20241027T010000
END:STANDARD
BEGIN:DAYLIGHT
TZOFFSETFROM:+0200
TZOFFSETTO:+0300
TZNAME:EEST
DTSTART:20250330T010000
END:DAYLIGHT
BEGIN:STANDARD
TZOFFSETFROM:+0300
TZOFFSETTO:+0200
TZNAME:EET
DTSTART:20251026T010000
END:STANDARD
BEGIN:DAYLIGHT
TZOFFSETFROM:+0200
TZOFFSETTO:+0300
TZNAME:EEST
DTSTART:20260329T010000
END:DAYLIGHT
BEGIN:STANDARD
TZOFFSETFROM:+0300
TZOFFSETTO:+0200
TZNAME:EET
DTSTART:20261025T010000
END:STANDARD
END:VTIMEZONE
BEGIN:VEVENT
DTSTART;TZID=Europe/Helsinki:20250305T170000
DTEND;TZID=Europe/Helsinki:20250305T190000
DTSTAMP:20260424T072524
CREATED:20250218T104748Z
LAST-MODIFIED:20250218T104750Z
UID:16962-1741194000-1741201200@p-klubi.fi
SUMMARY:Laulunjohtajakoulutus
DESCRIPTION:Tule sukeltamaan sitsikulttuurin saloihin ja kerryttämään laulunjohtajan taitoja P-klubin toimistolle keskiviikkona 5.3. klo 17. Koulutukseen osallistuminen ei vaadi sinulta muuta kuin kiinnostusta ja sitsi-innostusta. Osallistuminen ei myöskään velvoita toimimaan laulunjohtajana. \n\n\n\nLaulunjohtajakoulutus käydään tänä vuonna loistavassa seurassa Ella Laattalan johdolla ja tarjolla on myös pientä purtavaa. Nappaa siis laulukirja mukaan ja tule oppimaan!
URL:https://p-klubi.fi/tapahtumakalenteri/laulunjohtajakoulutus-2/
LOCATION:Toimisto\, Rehtorinpellonkatu 4B\, Turku\, 20500\, Finland
END:VEVENT
END:VCALENDAR