BEGIN:VCALENDAR
VERSION:2.0
PRODID:-//P-klubi - ECPv6.15.20//NONSGML v1.0//EN
CALSCALE:GREGORIAN
METHOD:PUBLISH
X-ORIGINAL-URL:https://p-klubi.fi
X-WR-CALDESC:Events for P-klubi
REFRESH-INTERVAL;VALUE=DURATION:PT1H
X-Robots-Tag:noindex
X-PUBLISHED-TTL:PT1H
BEGIN:VTIMEZONE
TZID:Europe/Helsinki
BEGIN:DAYLIGHT
TZOFFSETFROM:+0200
TZOFFSETTO:+0300
TZNAME:EEST
DTSTART:20240331T010000
END:DAYLIGHT
BEGIN:STANDARD
TZOFFSETFROM:+0300
TZOFFSETTO:+0200
TZNAME:EET
DTSTART:20241027T010000
END:STANDARD
BEGIN:DAYLIGHT
TZOFFSETFROM:+0200
TZOFFSETTO:+0300
TZNAME:EEST
DTSTART:20250330T010000
END:DAYLIGHT
BEGIN:STANDARD
TZOFFSETFROM:+0300
TZOFFSETTO:+0200
TZNAME:EET
DTSTART:20251026T010000
END:STANDARD
BEGIN:DAYLIGHT
TZOFFSETFROM:+0200
TZOFFSETTO:+0300
TZNAME:EEST
DTSTART:20260329T010000
END:DAYLIGHT
BEGIN:STANDARD
TZOFFSETFROM:+0300
TZOFFSETTO:+0200
TZNAME:EET
DTSTART:20261025T010000
END:STANDARD
END:VTIMEZONE
BEGIN:VEVENT
DTSTART;TZID=Europe/Helsinki:20250317T170000
DTEND;TZID=Europe/Helsinki:20250317T190000
DTSTAMP:20260423T120622
CREATED:20250305T131026Z
LAST-MODIFIED:20250305T131029Z
UID:16988-1742230800-1742238000@p-klubi.fi
SUMMARY:Vuosijuhlatoimikunta
DESCRIPTION:Kevään korvalla on hyvä suunnata katseet kohti loppusyksyllä siintävää P-klubin 50-vuotisjuhlaa ja päästää ilmoille kaikki villeimmätkin ajatukset siitä\, miltä ne voisivat näyttää. Tule siis vapaasti kuulemaan miten vujujärjestelyt ovat startanneet\, pallottelemaan ideoita ja esittämään toiveita toimistolle 17.3. klo 17.00 vuoden ensimmäiseen vuosijuhlatoimikuntaan! \n\n\n\nTapahtuma ei sido mihinkään ja on matalan kynnyksen aivoriihi kaikille kynnelle kykeneville. Paikalla tarjotaan pientä purtavaa sekä innostuksensekaista tunnelmaa. Nähdään siis siellä! \n\n\n\n<3:lla festiksenne Roosa ja Loviisa
URL:https://p-klubi.fi/tapahtumakalenteri/vuosijuhlatoimikunta-3/
END:VEVENT
END:VCALENDAR