BEGIN:VCALENDAR
VERSION:2.0
PRODID:-//P-klubi - ECPv6.15.20//NONSGML v1.0//EN
CALSCALE:GREGORIAN
METHOD:PUBLISH
X-WR-CALNAME:P-klubi
X-ORIGINAL-URL:https://p-klubi.fi
X-WR-CALDESC:Events for P-klubi
REFRESH-INTERVAL;VALUE=DURATION:PT1H
X-Robots-Tag:noindex
X-PUBLISHED-TTL:PT1H
BEGIN:VTIMEZONE
TZID:Europe/Helsinki
BEGIN:DAYLIGHT
TZOFFSETFROM:+0200
TZOFFSETTO:+0300
TZNAME:EEST
DTSTART:20240331T010000
END:DAYLIGHT
BEGIN:STANDARD
TZOFFSETFROM:+0300
TZOFFSETTO:+0200
TZNAME:EET
DTSTART:20241027T010000
END:STANDARD
BEGIN:DAYLIGHT
TZOFFSETFROM:+0200
TZOFFSETTO:+0300
TZNAME:EEST
DTSTART:20250330T010000
END:DAYLIGHT
BEGIN:STANDARD
TZOFFSETFROM:+0300
TZOFFSETTO:+0200
TZNAME:EET
DTSTART:20251026T010000
END:STANDARD
BEGIN:DAYLIGHT
TZOFFSETFROM:+0200
TZOFFSETTO:+0300
TZNAME:EEST
DTSTART:20260329T010000
END:DAYLIGHT
BEGIN:STANDARD
TZOFFSETFROM:+0300
TZOFFSETTO:+0200
TZNAME:EET
DTSTART:20261025T010000
END:STANDARD
END:VTIMEZONE
BEGIN:VEVENT
DTSTART;TZID=Europe/Helsinki:20250319T170000
DTEND;TZID=Europe/Helsinki:20250319T190000
DTSTAMP:20260423T085752
CREATED:20250305T130916Z
LAST-MODIFIED:20250305T130920Z
UID:16986-1742403600-1742410800@p-klubi.fi
SUMMARY:Ekskursiotoimikunta
DESCRIPTION:Lähdetäänkö etelän lämpöön vai Keski-Euroopan pikkukaduille? Sinä päätät\, kun osallistut ulkomaan ekskursiota suunnittelevaan toimikuntaan 19.3. \n\n\n\nP-klubi siintää itsensä taas maailmalle tänä syksynä\, ja suunnittelu on aloitettu jo nyt. Toimikunnassa päätetään\, mihin maahan tänä vuonna lähdetään\, minkä lisäksi jäsenistö on tervetullut heittelemään ideoita ja ajatuksia matkaan liittyen. Matkan tarkoituksena on tutustua työelämän ja kulttuurin osalta kiinnostaviin kohteisiin – sekä reissata maailman parhaassa seurassa. \n\n\n\nEkskursiovastaavat ovat valmistelleet diaesityksen\, jossa esittelemme vaihtoehdoiksi valikoituneet maat. Toimikunta on kertaluontoinen\, eli osallistumalla et sitoudu matkan muuhun suunnitteluun. Mitä enemmän saamme ideoita ja jäsenistön mielipiteitä\, sen onnistuneempi matkasta tulee! \n\n\n\nToimikunta pidetään Toimistolla klo 17 eteenpäin. Nähdään siis siellä! \n\n\n\nTerveisin nyt jo vakavaa matkakuumetta potevat ekskuvastaavat\,Andrea ja Venla
URL:https://p-klubi.fi/tapahtumakalenteri/ekskursiotoimikunta-2/
END:VEVENT
END:VCALENDAR