BEGIN:VCALENDAR
VERSION:2.0
PRODID:-//P-klubi - ECPv6.15.20//NONSGML v1.0//EN
CALSCALE:GREGORIAN
METHOD:PUBLISH
X-ORIGINAL-URL:https://p-klubi.fi
X-WR-CALDESC:Events for P-klubi
REFRESH-INTERVAL;VALUE=DURATION:PT1H
X-Robots-Tag:noindex
X-PUBLISHED-TTL:PT1H
BEGIN:VTIMEZONE
TZID:Europe/Helsinki
BEGIN:DAYLIGHT
TZOFFSETFROM:+0200
TZOFFSETTO:+0300
TZNAME:EEST
DTSTART:20240331T010000
END:DAYLIGHT
BEGIN:STANDARD
TZOFFSETFROM:+0300
TZOFFSETTO:+0200
TZNAME:EET
DTSTART:20241027T010000
END:STANDARD
BEGIN:DAYLIGHT
TZOFFSETFROM:+0200
TZOFFSETTO:+0300
TZNAME:EEST
DTSTART:20250330T010000
END:DAYLIGHT
BEGIN:STANDARD
TZOFFSETFROM:+0300
TZOFFSETTO:+0200
TZNAME:EET
DTSTART:20251026T010000
END:STANDARD
BEGIN:DAYLIGHT
TZOFFSETFROM:+0200
TZOFFSETTO:+0300
TZNAME:EEST
DTSTART:20260329T010000
END:DAYLIGHT
BEGIN:STANDARD
TZOFFSETFROM:+0300
TZOFFSETTO:+0200
TZNAME:EET
DTSTART:20261025T010000
END:STANDARD
END:VTIMEZONE
BEGIN:VEVENT
DTSTART;TZID=Europe/Helsinki:20250320T170000
DTEND;TZID=Europe/Helsinki:20250320T210000
DTSTAMP:20260423T073159
CREATED:20250305T130735Z
LAST-MODIFIED:20250305T130743Z
UID:16984-1742490000-1742504400@p-klubi.fi
SUMMARY:Sinisten haalarien rastikierros 2025
DESCRIPTION:Taas jälleen kevään saapuessa siniset haalarit valloittavat yliopiston alueen! Tänä vuonna sinisen eri sävyjä edustaa Anglica\, P-Klubi\, Forum Romanum\, Adamas\, Putex\, Ky-Troika\, Ky-Tricolore\, Wiiniklubi\, Nucleus\, Ky-Hansa ja ESN\, jotka kokoontuvat 20.3. rastikierroksen merkeissä. Tämän jälkeen on tietenkin luvassa huikeat jatkobileet Heidi’s Bier Barissa. \n\n\n\nKokoa siis 2-6 hengen joukkue ja liity mukaan kilpailemaan parhaan joukkueen paikasta ja sen mukana tulevasta palkinnosta! Ilmoittautuminen kierrokselle aukeaa 6.3. klo 18 Google Forms lomakkeena\, johon yksi jäsen ilmoittaa joukkueensa. Muistathan ilmoittautua nopeasti\, koska mukaan mahtuu ensimmäiset 30 joukkuetta. Tapahtumalla on hintaa 6€ osallistujaa kohden ja se sisältää kierroksen hauskanpidon lisäksi haalarimerkin sekä sisäänpääsyn jatkoille. Tapahtuman maksuohjeet saapuvat ilmoittautuneille myöhemmin sähköpostin välityksellä! \n\n\n\nÄlä huoli\, jos et pääse rastikierrokselle\, sillä jatkobileet ovat avoinna kaikille haalareille edulliseen 3 € hintaan. \n\n\n\nHUOMIO: Kaikki ilmoittautumiset\, jotka on lähetetty ennen 6.3. Kello 18.00\, tullaan mitätöimään. \n\n\n\nIlmoittautumislomake: https://forms.gle/nzRkCL9EnnaCg15v7 \n\n\n\nRastikierros alkaa 17.00 yliopistonmäellä päärakennuksen edustalla\, jossa osallistujat saa haalarimerkit ja tarvittavat lisäinfot koskien kierroksen kulkua. Nähdään siellä! \n\n\n\nRakkain terveisin\,Anglica\, P-Klubi\, Forum Romanum\, Adamas\, Putex\, Ky-Troika\, Ky-Tricolore\, Wiiniklubi\, Nucleus\, Ky-Hansa sekä ESN \n\n\n\nMITÄ? Sinisten haalarien rastikierros ja bileetMISSÄ? Päärakennuksen edessä klo 17:00\, jatkobileet Heidi’s Bier Bar klo 22:00 –>MILLOIN? Torstaina 20.3.KUI PAL? 6 € per henkilö (vain jatkot 3€)MITÄ PÄÄL? Tietenkin SINISET haalarit! 
URL:https://p-klubi.fi/tapahtumakalenteri/sinisten-haalarien-rastikierros-2025/
END:VEVENT
END:VCALENDAR