BEGIN:VCALENDAR
VERSION:2.0
PRODID:-//P-klubi - ECPv6.15.20//NONSGML v1.0//EN
CALSCALE:GREGORIAN
METHOD:PUBLISH
X-ORIGINAL-URL:https://p-klubi.fi
X-WR-CALDESC:Events for P-klubi
REFRESH-INTERVAL;VALUE=DURATION:PT1H
X-Robots-Tag:noindex
X-PUBLISHED-TTL:PT1H
BEGIN:VTIMEZONE
TZID:Europe/Helsinki
BEGIN:DAYLIGHT
TZOFFSETFROM:+0200
TZOFFSETTO:+0300
TZNAME:EEST
DTSTART:20220327T010000
END:DAYLIGHT
BEGIN:STANDARD
TZOFFSETFROM:+0300
TZOFFSETTO:+0200
TZNAME:EET
DTSTART:20221030T010000
END:STANDARD
BEGIN:DAYLIGHT
TZOFFSETFROM:+0200
TZOFFSETTO:+0300
TZNAME:EEST
DTSTART:20230326T010000
END:DAYLIGHT
BEGIN:STANDARD
TZOFFSETFROM:+0300
TZOFFSETTO:+0200
TZNAME:EET
DTSTART:20231029T010000
END:STANDARD
BEGIN:DAYLIGHT
TZOFFSETFROM:+0200
TZOFFSETTO:+0300
TZNAME:EEST
DTSTART:20240331T010000
END:DAYLIGHT
BEGIN:STANDARD
TZOFFSETFROM:+0300
TZOFFSETTO:+0200
TZNAME:EET
DTSTART:20241027T010000
END:STANDARD
END:VTIMEZONE
BEGIN:VEVENT
DTSTART;TZID=Europe/Helsinki:20230301T170000
DTEND;TZID=Europe/Helsinki:20230301T180000
DTSTAMP:20260424T033000
CREATED:20230222T173811Z
LAST-MODIFIED:20230222T173811Z
UID:14066-1677690000-1677693600@p-klubi.fi
SUMMARY:POP-toimikunta vol. 1
DESCRIPTION:Tervetuloa mukaan järjestämään vuoden 2023 POP-päiviä!\n \nTänä vuonna Politiikan opiskelijoiden päivät palaavat Turkuun\, ja ensimmäinen POP-toimikunnan tapaaminen järjestetään keskiviikkona 1.3. klo 17.00 Toimistolla. Toimikunnassa on tarkoitus polkaista tapahtuman suunnittelu käyntiin muun muassa ohjelman\, logistiikan\, grafiikan\, teeman ja varainhankinnan kautta.\n \nTapahtuma on tarkoitettu kaikille klubilaisille\, joita kiinnostaa näyttää kaikille kollegoille\, kuinka POP-päivät tulee järjestää. Tarjolla on myös kahvia keksien kera.\n \nhttps://www.facebook.com/events/727009698996322/?acontext=%7B%22event_action_history%22%3A%5B%7B%22extra_data%22%3A%22%22%2C%22mechanism%22%3A%22left_rail%22%2C%22surface%22%3A%22bookmark%22%7D%2C%7B%22extra_data%22%3A%22%22%2C%22mechanism%22%3A%22calendar_hosting_events_unit%22%2C%22surface%22%3A%22bookmark_calendar%22%7D%5D%2C%22ref_notif_type%22%3Anull%7D\n 
URL:https://p-klubi.fi/tapahtumakalenteri/pop-toimikunta-vol-1/
LOCATION:Toimisto\, Rehtorinpellonkatu 4B\, Turku\, 20500\, Finland
END:VEVENT
BEGIN:VEVENT
DTSTART;TZID=Europe/Helsinki:20230307T170000
DTEND;TZID=Europe/Helsinki:20230307T190000
DTSTAMP:20260424T033000
CREATED:20230301T131702Z
LAST-MODIFIED:20230301T131702Z
UID:14097-1678208400-1678215600@p-klubi.fi
SUMMARY:Liikuntaekskursio Megazoneen
DESCRIPTION:Nyt on viimein koittanut kevään liikuntaekskursion aika! Tarkoituksena olisi järjestää kaksi henkeäsalpaavaa lasertaistelua Turun isoimmassa sokkelossa Turun Megazonessa\, joka sijaitsee osoitteessa Eerikinkatu 4 eli samassa rakennuksessa keskustan Lidlin ja Hotel Scandic Julian kanssa.\n \nEkskursio järjestetään tiistaina 7.3 klo 17.15 – 18.10 välisenä aikana. Paikan päällä tulisi olla klo. 17.00\, sillä pelaajien tulee kerrata pelin säännöt. Tapahtuman hinta oт 15e/osallistuja.\n \nPelissä on kolme 6 hengen joukkuetta\, mutta mikäli osallistujia on enemmän\, voi joukkueetkin olla isompia. Muista siis ottaa kaverin mukaan\, niin pääsette samaan joukkueeseen tai kilpailemaan suuremmasta pistesaldosta\, jos ei ole vielä selvää kumpi teistä on paita ja kumpi on peppu.\n \nValitse puolesi ja liittolaisesi huolella. Mikä muu onkaan parempi paikka todistaa\, että sinisillä lehvillä on valta Suomessa\, kuin Megazonen taistelukentällä. Nähdään siis sokkelossa!\nIlmoittautumislomake: https://docs.google.com/…/1FAIpQLScfBPFIIsrS2QNQ0…/viewform…
URL:https://p-klubi.fi/tapahtumakalenteri/liikuntaekskursio-megazoneen/
LOCATION:Megazone\, Eerikinkatu 4\, Turku\, Finland
END:VEVENT
BEGIN:VEVENT
DTSTART;TZID=Europe/Helsinki:20230309T180000
DTEND;TZID=Europe/Helsinki:20230309T220000
DTSTAMP:20260424T033000
CREATED:20230301T131848Z
LAST-MODIFIED:20230301T131848Z
UID:14100-1678384800-1678399200@p-klubi.fi
SUMMARY:Kaverisitsit
DESCRIPTION:Mitä yhteistä on Dj:llä ja Pj:llä? No ei mitään\, paitsi että ne rimmaa! Odotetut kaverisitsit ovat täällä taas ja teema on riimitiimit. Nappaa siis kaverisi mukaan\, keksikää hauska riimipari ja tulkaa sitsaamaan Q-talolle torstaina 9.3.2023. klo 18:00 alkaen.\n \nNyt sinulla on mahdollisuus tutustuttaa kaverisi P-klubin ainutlaatuisiin ja mukaansatempaaviin sitsiperinteisiin. Teemana toimii riimitiimi\, eli pukeudutte riimiparin mukaan. Muistakaa käyttää luovuutta\, sillä parhaiten pukeutunut pari palkitaan. Iltaa jatketaan Night Club Vegasissa järjestettävillä riimitiimi bileillä\, jonne sitseille osallistuneet pääsevät ilmaiseksi.\n \nSitsit maksavat 13€/15€ riippuen juomavalinnasta. Maksuohjeet lähetetään sitseille mahtuneille ilmoittautumisajan päätyttyä. Ilmoittaja maksaa molempien osallistujien sitsimaksun.\nTapahtuma on OPM.\n \nP-klubin alkoholillisissa tapahtumissa on käytössä turvahenkilöt\, jotka toimivat avun ensiasteena tarvittaessa. Tunnistat heidät “Turvahenkilö”-pinssistä. Kaverisitsien turvahenkilöinä toimivat:\nHennika Rahko 0401868665\nLotta Pukkila 0451341415\n\nVoit olla heihin yhteydessä matalalla kynnyksellä ongelmatilanteissa. Lisätietoja turvahenkilökäytännöstä saat yhdenvertaisuusvastaavilta Anna Kuittiselta (ankkui@utu.fi) ja Vilppu Tolvilta (vttolv@utu.fi).\nMikäli sitseistä herää kysymyksiä\, olethan yhteydessä festiksiin\, festikset@gmail.com
URL:https://p-klubi.fi/tapahtumakalenteri/kaverisitsit/
LOCATION:Q-talo\, Nummenpuistokatu 2\, Turku\, Varsinais-Suomi\, 20540\, Finland
END:VEVENT
BEGIN:VEVENT
DTSTART;TZID=Europe/Helsinki:20230314T160000
DTEND;TZID=Europe/Helsinki:20230314T180000
DTSTAMP:20260424T033000
CREATED:20230301T132010Z
LAST-MODIFIED:20230301T132010Z
UID:14102-1678809600-1678816800@p-klubi.fi
SUMMARY:Vuosijuhlatoimikunnan ensimmäinen kokous
DESCRIPTION:Kevään lähestyessä on aika alkaa suunnittelemaan P-klubin perinteikkäitä vuosijuhlia\, joita päästään juhlimaan ensi syksynä.\n \nVuosijuhlatoimikunnan ensimmäinen kokous järjestetään keskiviikkona 14.3. klo 16.00 alkaen P-klubin toimistolla.\nTervetuloa toimistolle ideoimaan ja suunnittelemaan tulevia vuosijuhlia\, nähdään vuosijuhlatoimikunnassa!
URL:https://p-klubi.fi/tapahtumakalenteri/vuosijuhlatoimikunnan-ensimmainen-kokous/
LOCATION:Toimisto\, Rehtorinpellonkatu 4B\, Turku\, 20500\, Finland
END:VEVENT
BEGIN:VEVENT
DTSTART;TZID=Europe/Helsinki:20230315T140000
DTEND;TZID=Europe/Helsinki:20230315T160000
DTSTAMP:20260424T033000
CREATED:20230301T132145Z
LAST-MODIFIED:20230301T132145Z
UID:14104-1678888800-1678896000@p-klubi.fi
SUMMARY:P-klubin ja TYYn eduskuntavaalipaneeli 2023
DESCRIPTION:P-klubi ja TYY järjestävät eduskuntavaalipaneelin 15.3. klo 14.15 -15.45 Educariumilla Edu1 -salissa.\n \nTapahtuman yhteydessä järjestetään myös vaalitori Educariumin aulassa klo 16-17. Vaalipaneelin ehdokkaiden lisäksi vaalitorille ovat tervetulleita kaikki Varsinais-Suomessa ehdokkaita asettaneet puolueet. (Ilmoitukset etukäteen osoitteeseen mkkare@utu.fi)\nPaikalle paneeliin saapuu eduskuntapuolueiden ehdokkaita\, jotka julkaistaan tapahtumassa myöhemmin.\n \nMikäli mielessäsi on poliittinen teema tai kysymys ja haluaisit\, että sitä mahdollisesti käsitellään vaalipaneelissa\, alla olevasta linkistä pystyt ehdottamaan sinua kiinnostavia teemoja ja kysymyksiä.\nhttps://forms.gle/9igtZve3PX6jZUwd9\n \nTilaisuus on kaikille avoin\, joten saavu paikalle kuuntelemaan keskustelua kevään polttavista vaalikysymyksistä ja esittämään kysymyksiä ehdokkaille!\n \nTervetuloa!
URL:https://p-klubi.fi/tapahtumakalenteri/p-klubin-ja-tyyn-eduskuntavaalipaneeli-2023/
LOCATION:Educarium\, Assistentinkatu 5\, Turku\, 20014\, Finland
END:VEVENT
BEGIN:VEVENT
DTSTART;TZID=Europe/Helsinki:20230315T210000
DTEND;TZID=Europe/Helsinki:20230315T233000
DTSTAMP:20260424T033000
CREATED:20230301T132359Z
LAST-MODIFIED:20230301T132359Z
UID:14106-1678914000-1678923000@p-klubi.fi
SUMMARY:P-klubin ja TYYn vaalibileet
DESCRIPTION:Kiinnostaako sinua bilettää muiden politiikasta kiinnostuneiden opiskelijoiden kanssa? Haluatko sinä tanssia ulkoministeri Pekka ”DJ Pexi” Haaviston biittien tahtiin?\n \nTule mukaan juhlistamaan vuoden 2023 eduskuntavaaleja Saaristobaariin 15.3. kello 19 eteenpäin.\n \nNämä bileet ovat aikaisemmin päivällä järjestettävän eduskuntavaalipaneelin tavoin avoimet kaikille. 3€ pääsymaksun yhteydessä saat myös upean teeman mukaisen haalarimerkin.\nTapahtuman täsmällisempi aikataulu tarkentuu myöhemmin.\n \nNähdään Saaristobaarissa!
URL:https://p-klubi.fi/tapahtumakalenteri/p-klubin-ja-tyyn-vaalibileet/
LOCATION:Saaristobaari\, Aurakatu 14\, Turku\, Finland
END:VEVENT
BEGIN:VEVENT
DTSTART;TZID=Europe/Helsinki:20230316T160000
DTEND;TZID=Europe/Helsinki:20230316T180000
DTSTAMP:20260424T033000
CREATED:20230301T132513Z
LAST-MODIFIED:20230301T133902Z
UID:14109-1678982400-1678989600@p-klubi.fi
SUMMARY:P-klubin sääntömääräinen kevätkokous
DESCRIPTION:Tervetuloa P-klubin sääntömääräiseen kevätkokoukseen torstaina 16.3. kello 16 alkaen Turku-saliin.\nYhdistyslaissa ja yhdistyksen säännöissä säädettyjen asioiden lisäksi kokouksessa päätetään yhdistyksen omistaman osakeyhtiön asioista. Jäsenistölistalle välitetään kokouskutsut sekä niiden liitteet sähköpostitse.\n \nTapahtumassa kahvitarjoilu.
URL:https://p-klubi.fi/tapahtumakalenteri/p-klubin-saantomaarainen-kevatkokous-4/
LOCATION:Turku-sali\, Rehtorinpellonkatu 4A\, Turku\, Finland
END:VEVENT
BEGIN:VEVENT
DTSTART;TZID=Europe/Helsinki:20230321T163000
DTEND;TZID=Europe/Helsinki:20230321T233000
DTSTAMP:20260424T033000
CREATED:20230301T132718Z
LAST-MODIFIED:20230301T132718Z
UID:14111-1679416200-1679441400@p-klubi.fi
SUMMARY:Sinisten haalareiden rastikierros ja bileet
DESCRIPTION:Nyt kun kevät tulee ja lumet sulaa\, on aika sinisten haalarien jatkaa perinnettään ja ilmestyä koloistaan suunnaten askeleensa kohti poikkitieteellistä tapahtumaa. Adamas\, Anglica\, Forum Romanum\, KY-Hansa\, KY-Tricolore\, KY-Troika\, Nucleus\, P-klubi\, Putex\, Taotao\, Visio ja Wiiniklubi kokoontuvat tiistaina 21.3. rastikierroksen pariin\, jonka jälkeen siniset haalarit suuntaavat tietenkin unohtumattomille jatkoille Heidi’s Bier Bariin.\n \nKokoa siis 4-6 hengen joukkue ja tule aloittelemaan ilta rastikierrokselle\, jossa paras tiimi voittaa itselleen huikean palkinnon! Ilmoittautuminen tapahtumaan aukeaa tiistaina 14.3. klo 14\, jonne yksi henkilö joukkueesta ilmoittautuu. Ilmoittautuminen on auki perjantaihin 17.3. klo 23.59 asti. Paikkoja tiimeille on rajattu määrä\, joten ole nopea! Yksi henkilö tiimistä siis ilmoittaa koko joukkueen. Forms -lomake julkaistaan tässä Facebook -tapahtumassa ennen ilmoittautumisen alkua\, joten kannattaa täydentää tiedot jo etukäteen ja lähettää lomake\, kun kello lyö 14. HUOM!! Ennen klo 14 tulevia ilmoittautumisia ei oteta huomioon. Kierros kustantaa 6e/hlö ja se sisältää rastien lystin lisäksi upean haalarimerkin\, sekä pääsyn ainutlaatuisille jatkoille. Maksuohjeet tulevat myöhemmin sähköpostiin.\n \nÄlä huoli\, jos et pääse rastikierrokselle\, sillä Heidi’sin jatkobileet ovat avoinna muunkin värisille haalareille edulliseen 3e hintaan.\n \nKokoonnumme klo 16.30 rastikierroksen alussa Yliopistonmäellä suihkulähteen vieressä\, jossa rastikierrokselle osallistuvat saavat tarvittavat tiedot ja haalarimerkin. Rastit sijaitsevat yliopiston alueella ja niiden sijainnin näkee sähköisestä kartasta. Ota rastikierrokselle OPM\, jos et halua turvautua vain rastien mahdolliseen alkoholitarjontaan. Rasteja on aikaa suorittaa klo 21 asti\, jonka jälkeen palkinnot jaetaan Turun Tuomiokirkon edessä.\n \nNähdään rasteilla ja jatkoilemassa!\n \nRakkain terveisin\,\nAdamas\, Anglica\, Forum Romanum\, KY-Hansa\, KY-Tricolore\, KY-Troika\, Nucleus\, P-klubi\, Putex\, Taotao\, Visio ja Wiiniklubi\n \nMITÄ? Sinisten haalareiden rastikierros ja bileet\nMISSÄ? Yliopiston alue\, jatkobileet Heidi’s Bier Barissa klo 22 euron shottien kera!\nMILLOIN? Tiistaina 21.3. klo 16.30 alkaen\nKUI PAL? 6e (pelkät jatkot 3e)\nMITÄ PÄÄL? Tietenkin SINISET haalarit
URL:https://p-klubi.fi/tapahtumakalenteri/sinisten-haalareiden-rastikierros-ja-bileet/
LOCATION:Heidi’s Bier Bar\, Aurakatu 14\, Turku\, 20100
END:VEVENT
BEGIN:VEVENT
DTSTART;TZID=Europe/Helsinki:20230322T160000
DTEND;TZID=Europe/Helsinki:20230322T180000
DTSTAMP:20260424T033000
CREATED:20230206T125935Z
LAST-MODIFIED:20230302T084931Z
UID:13989-1679500800-1679508000@p-klubi.fi
SUMMARY:Ekskursiotoimikunta
DESCRIPTION:Oletko aina tahtonut päästä suunnittelemaan ulkomaanreissua opiskelijakavereiden kesken? Kiehtovatko kansainväliset työelämä- ja kulttuurikohteet sinua? Satutko muuten vain olemaan aivan pro matkasuunnittelija? Siinä tapauksessa suuntaa toimistolle keskiviikkona 22.3. klo 16 suunnittelemaan P-klubin vuoden 2023 ulkomaan ekskursiota!\n \nEkskursiotoimikunnan kokouksessa ekskuvastaavat Vilma ja Mikko esittelevät muutamia varteen otettavia matkakohteita kattavan diaesityksen saattelemana. Tämän lisäksi luvassa tulee olemaan muuta ideointia\, suunnittelua ja vapaata keskustelua tulevaan reissuun liittyen. Ekskursiota suunnitellaan perinteiseen tapaan syys-lokakuun vaihteeseen\, täsmällisempi ajankohta tarkentuu myöhemmin keväällä matkakohteen selvittyä.\n\nMikäli ekskursiolle lähteminen houkuttelee\, niin nyt jos koskaan on mahdollista vaikuttaa siihen\, mihin päin maailmaa klubilaiset matkaavat tänä vuonna. Kokoukseen osallistuminen ei kuitenkaan sido vielä mihinkään\, joten paikalle voi saapua hyvin matalalla kynnyksellä fiilistelemään tulevaa reissua. Tapahtumassa on kahvitarjoilu.\n \nNähdään toimistolla!\nTerveisin\,\nEkskursiovastaavat\nVilma ja Mikko\nvkvalk@utu.fi\nmkkare@utu.fi
URL:https://p-klubi.fi/tapahtumakalenteri/ekskursiotoimiukunta/
LOCATION:Toimisto\, Rehtorinpellonkatu 4B\, Turku\, 20500\, Finland
END:VEVENT
BEGIN:VEVENT
DTSTART;TZID=Europe/Helsinki:20230323T170000
DTEND;TZID=Europe/Helsinki:20230323T233000
DTSTAMP:20260424T033000
CREATED:20230301T133240Z
LAST-MODIFIED:20230301T133240Z
UID:14113-1679590800-1679614200@p-klubi.fi
SUMMARY:Fuksisauna
DESCRIPTION:Hei P-klubin fuksi!\n \nMietityttääkö yliopiston käytännöt? Tuntuvatko henkilökunnan jäsenet kaukaisilta? Haluaisitko tutustua henkilökuntaan rennoissa merkeissä?\n \nTervetuloa fuksien ja poliittisen historian sekä valtio-opin henkilökunnan yhteiseen saunailtaan TYYn saunalle torstaina 23.3. klo 17 eteenpäin! Vanhemmat opiskelijat voivat saapua paikalle 18:30. Luvassa rentoa hengailua ja yhteistä ohjelmaa\, P-klubi tarjoaa löylyjen lisäksi pientä naposteltavaa. Halutessasi voit tuoda mukanasi saunajuomista.\nTapahtuma on OPM.\n \nP-klubin alkoholillisissa tapahtumissa on käytössä turvahenkilöt\, jotka toimivat avun ensiasteena tarvittaessa. Tunnistat heidät “Turvahenkilö”-pinssistä. Saunaillan turvahenkilöinä toimivat Anna Kuittinen ja Vilppu Tolvi. Voit olla heihin yhteydessä matalalla kynnyksellä ongelmatilanteissa.\n \nAnna Kuittinen: 0443223714\nVilppu Tolvi: 0458525599\nLisätietoja turvahenkilökäytännöstä saat yhdenvertaisuusvastaavilta Anna Kuittiselta (anna.k.kuittinen@utu.fi) tai Vilppu Tolvilta (vilppu.t.tolvi@utu.f)\n \nLisätietoja saunaillasta saat Ronjalta (roetuo@utu.fi) tai Rikulta (rrengs@utu.fi).\nKopoterveisin\,\nRonja ja Riku
URL:https://p-klubi.fi/tapahtumakalenteri/fuksisauna/
LOCATION:TYY:n sauna\, Rehtorinpellonkatu 4\, Turku\, 20500\, Finland
END:VEVENT
BEGIN:VEVENT
DTSTART;TZID=Europe/Helsinki:20230330T193000
DTEND;TZID=Europe/Helsinki:20230330T230000
DTSTAMP:20260424T033000
CREATED:20230301T133715Z
LAST-MODIFIED:20230301T133715Z
UID:14115-1680204600-1680217200@p-klubi.fi
SUMMARY:Ylen suuri vaalikeskustelu
DESCRIPTION:Tuntuuko jo vaalihaippi? Haluatko nähdä kun maamme nimekkäimmät poliitikot ottavat mittaa toisistaan? Oletko aina miettinyt mitä Ylen lähetysten kulissien takana tapahtuu?\nEduskuntavaalit lähestyvät ja nyt p-klubilaisilla on ainutlaatuinen mahdollisuus päästä paikan päälle kuuntelemaan puolueiden puheenjohtajien tenttausta Ylen studioon. Suuri vaalikeskustelu järjestetään 30.3. Pasilassa\, jossa eduskuntapuolueiden puheenjohtajat tentataan liveyleisön edessä kolme päivää ennen varsinaista vaalipäivää. Annika Damströmin juontamassa kaksituntisessa suorassa lähetyksessä poliitikkoja tentataan ajankohtaisista teemoista vaaleihin liittyen.\n \nMikäli kysymyksiä herää\, otathan yhteyttä Vilma Valkoseen\nvilma.k.valkonen@utu.fi\n \nMitä? P-klubin vierailu Ylen suureen vaalikeskusteluun.\nMissä? Ylen studiolla Pasilassa.\nMilloin? 30.3. klo 19.30-23.00.\nMiksi? Koska ainutlaatuinen tilaisuus päästä kuuntelemaan puolueiden puheenjohtajien tenttausta juuri ennen suurta vaalipäivää!
URL:https://p-klubi.fi/tapahtumakalenteri/ylen-suuri-vaalikeskustelu/
LOCATION:Ylen studiotalo\, Uutiskatu 8 A\, Helsinki\, Finland
END:VEVENT
END:VCALENDAR